BEGIN:VCALENDAR
VERSION:2.0
PRODID:-//STRAWANZERIN - ECPv4.9.5//NONSGML v1.0//EN
CALSCALE:GREGORIAN
METHOD:PUBLISH
X-WR-CALNAME:STRAWANZERIN
X-ORIGINAL-URL:https://www.strawanzerin.at
X-WR-CALDESC:Veranstaltungen im STRAWANZERIN
BEGIN:VTIMEZONE
TZID:"Europe/Paris"
BEGIN:DAYLIGHT
TZOFFSETFROM:+0100
TZOFFSETTO:+0200
TZNAME:CEST
DTSTART:20150329T010000
END:DAYLIGHT
BEGIN:STANDARD
TZOFFSETFROM:+0200
TZOFFSETTO:+0100
TZNAME:CET
DTSTART:20151025T010000
END:STANDARD
END:VTIMEZONE
BEGIN:VEVENT
DTSTART;TZID="Europe/Paris":20150508T193000
DTEND;TZID="Europe/Paris":20150508T213000
DTSTAMP:20260420T194416
CREATED:20150429T081903Z
LAST-MODIFIED:20150429T081948Z
UID:14338-1431113400-1431120600@www.strawanzerin.at
SUMMARY:Hallo Aliens. Ein inklusives Theaterprojekt
DESCRIPTION:Theaterwunder in der Leopoldstadt:\nJenseits der großen Staats- und Repräsentationstempel gibt es in Wien eine Reihe von Kleinbühnen\, und es ist nicht gesagt\, daß man in den umgebauten Lagerräumen und Kinosälen weniger spannendes Theater erlebt. Manchmal kommt es in den Off-Theatern sogar zu künstlerischen Sternstunden. Von einem derartigen Glücksfall soll in der Folge die Rede sein. In der Produktion „Hallo Aliens“ geht es um die Erprobung menschlichen Verhaltens unter ungewöhnlichen Bedingungen. \n
URL:https://www.strawanzerin.at/termin/hallo-aliens-ein-inklusives-theaterprojekt/2015-05-08/
LOCATION:Österreich
CATEGORIES:Deutsch,Eintrittspreis,Kunst/Kultur,Theater/Kabarett,Wien
ATTACH;FMTTYPE=:
ORGANIZER;CN="Spektakel":MAILTO: halloaliens@gmail.com
END:VEVENT
END:VCALENDAR