BEGIN:VCALENDAR
VERSION:2.0
PRODID:-//STRAWANZERIN - ECPv4.9.5//NONSGML v1.0//EN
CALSCALE:GREGORIAN
METHOD:PUBLISH
X-WR-CALNAME:STRAWANZERIN
X-ORIGINAL-URL:https://www.strawanzerin.at
X-WR-CALDESC:Veranstaltungen im STRAWANZERIN
BEGIN:VTIMEZONE
TZID:"Europe/Paris"
BEGIN:DAYLIGHT
TZOFFSETFROM:+0100
TZOFFSETTO:+0200
TZNAME:CEST
DTSTART:20150329T010000
END:DAYLIGHT
BEGIN:STANDARD
TZOFFSETFROM:+0200
TZOFFSETTO:+0100
TZNAME:CET
DTSTART:20151025T010000
END:STANDARD
END:VTIMEZONE
BEGIN:VEVENT
DTSTART;TZID="Europe/Paris":20150508T193000
DTEND;TZID="Europe/Paris":20150508T210000
DTSTAMP:20260420T174510
CREATED:20150510T171814Z
LAST-MODIFIED:20150510T171843Z
UID:14380-1431113400-1431118800@www.strawanzerin.at
SUMMARY:Hallo Aliens
DESCRIPTION:Auf einem fernen Planeten werden Zeichensprachen und Verständigungsformen geprobt. Die Zuschauer sind Außeridische. Sie wollen unsere Bewusstseinszustände und im Besonderen das Phänomen „Liebe“ entschlüsseln. Das Ziel des Probens ist\, den Code des Zwischenmenschlichen zu knacken\, der die Neugier der Aliens befriedigt. Dann ist eine Rückkehr zur Erde möglich. \n“Hallo Aliens ist eine bewegende Produktion\, in der Menschen als Ereignisse gefeiert werden. Ein authentischer\, auf dem Theater sonst kaum je zu sehender Kosmos mit Fixsternen\, Planeten und Außerirdischen. Der Abend arbeitet mit einfachsten Mitteln und schafft es doch\, im Publikum große Gefühle auszulösen.” (Franzobel) \n
URL:https://www.strawanzerin.at/termin/hallo-aliens/2015-05-08/
LOCATION:Österreich
CATEGORIES:ab 7,Deutsch,Kunst/Kultur,Theater/Kabarett,Wien
ATTACH;FMTTYPE=:
ORGANIZER;CN="Kooperation%20Lebenshilfe%20Wien":MAILTO:halloaliens@gmail.com
END:VEVENT
END:VCALENDAR