BEGIN:VCALENDAR
VERSION:2.0
PRODID:-//STRAWANZERIN - ECPv4.9.5//NONSGML v1.0//EN
CALSCALE:GREGORIAN
METHOD:PUBLISH
X-WR-CALNAME:STRAWANZERIN
X-ORIGINAL-URL:https://www.strawanzerin.at
X-WR-CALDESC:Veranstaltungen im STRAWANZERIN
BEGIN:VTIMEZONE
TZID:"Europe/Paris"
BEGIN:DAYLIGHT
TZOFFSETFROM:+0100
TZOFFSETTO:+0200
TZNAME:CEST
DTSTART:20150329T010000
END:DAYLIGHT
BEGIN:STANDARD
TZOFFSETFROM:+0200
TZOFFSETTO:+0100
TZNAME:CET
DTSTART:20151025T010000
END:STANDARD
END:VTIMEZONE
BEGIN:VEVENT
DTSTART;TZID="Europe/Paris":20150822T203000
DTEND;TZID="Europe/Paris":20150822T230000
DTSTAMP:20260421T091612
CREATED:20150730T125818Z
LAST-MODIFIED:20150731T073846Z
UID:18821-1440275400-1440284400@www.strawanzerin.at
SUMMARY:Happy Birthday Ruth - Red Carpet Riders
DESCRIPTION:Happy Birthday Ruth!\nDie Chefin des Industrie feiert ihren Geburtstag und alle feiern mit! Den wievielten Geburtstag sie feiert\, verraten wir natürlich nicht\, aber wir verraten euch ihren musikalischen Geburtstagswunsch\, den wir an diesem Abend gerne erfüllen: THE RED CARPET RIDERS! \n
URL:https://www.strawanzerin.at/termin/happy-birthday-ruth-red-carpet-riders/
LOCATION:Traditionscafé Industrie\, Margaretengürtel 12\, Wien\, Wien\, 1050\, Österreich
CATEGORIES:Deutsch,freie Spende,Musik,Sonstiges,Wien
ATTACH;FMTTYPE=image/jpeg:https://www.strawanzerin.at/wp-content/uploads/2015/07/ruth_fb.jpg
ORGANIZER;CN="Ruth%20Binder":MAILTO:event@cafe-industrie.at
GEO:48.1838252;16.3664539
X-APPLE-STRUCTURED-LOCATION;VALUE=URI;X-ADDRESS=Traditionscafé Industrie Margaretengürtel 12 Wien Wien 1050 Österreich;X-APPLE-RADIUS=500;X-TITLE=Margaretengürtel 12:geo:16.3664539,48.1838252
END:VEVENT
END:VCALENDAR