BEGIN:VCALENDAR
VERSION:2.0
PRODID:-//STRAWANZERIN - ECPv4.9.5//NONSGML v1.0//EN
CALSCALE:GREGORIAN
METHOD:PUBLISH
X-WR-CALNAME:STRAWANZERIN
X-ORIGINAL-URL:https://www.strawanzerin.at
X-WR-CALDESC:Veranstaltungen im STRAWANZERIN
BEGIN:VTIMEZONE
TZID:"Europe/Vienna"
BEGIN:DAYLIGHT
TZOFFSETFROM:+0100
TZOFFSETTO:+0200
TZNAME:CEST
DTSTART:20240331T010000
END:DAYLIGHT
BEGIN:STANDARD
TZOFFSETFROM:+0200
TZOFFSETTO:+0100
TZNAME:CET
DTSTART:20241027T010000
END:STANDARD
END:VTIMEZONE
BEGIN:VEVENT
DTSTART;TZID="Europe/Vienna":20240619T180000
DTEND;TZID="Europe/Vienna":20240619T180000
DTSTAMP:20260420T202622
CREATED:20240528T122932Z
LAST-MODIFIED:20240528T122932Z
UID:99602-1718820000-1718820000@www.strawanzerin.at
SUMMARY:Hélène – Befreiung ins Irrenhaus von Eva Geber (marsyas Verlag 2024)
DESCRIPTION:Buchpräsentation \nEnde des 19. Jahrhunderts. Die 16jährige Hélène\, Tochter aus gutem Haus\, wird mit einem höheren k&k-Beamten verheiratet. In der Ehe mit dem auf der Karriereleiter immer höher steigenden Diplomaten vereinsamt Hélène und wird „gemütskrank“. Eine Scheidung kommt nicht in Betracht. Schließlich wird das Irrenhaus für sie zum Zufluchtsort. Eva Geber verknüpft die auktoriale Erzählebene mit inneren Monologen der Protagonistin und der Perspektive der Enkelin\, die sich auf die Suche nach Spuren ihrer „hysterischen“ Großmamá macht\, die in Familienerzählungen nur als furchterregendes Gespenst erscheint. \nMit Eva Geber\, Grafikerin\, Autorin und Kulturpublizistin\, 1975 bis zu deren Einstellung 2011 Mitherausgeberin und Redakteurin der „AUF – Eine Frauenzeitschrift“ und Mitgründerin 1992 der AUFedition \nModeration: Andrea Strutzmann \nEva Geber (2024): Hélène – Befreiung ins Irrenhaus. marsyas Verlag. https://marsyas.at/titel/eva-geber/helene-befreiung-ins-irrenhaus \nDie Veranstaltung ist für Frauen. \n
URL:https://www.strawanzerin.at/termin/helene-befreiung-ins-irrenhaus-von-eva-geber-marsyas-verlag-2024/
LOCATION:Frauenbildungsstätte Frauenhetz\, Untere Weißgerberstraße 41\, Wien\, Wien\, 1030\, Österreich
CATEGORIES:Barrierefrei,Deutsch,Feminismus,Gratis,Literatur,Soziale Kämpfe,Wien
GEO:48.2084854;16.3946163
X-APPLE-STRUCTURED-LOCATION;VALUE=URI;X-ADDRESS=Frauenbildungsstätte Frauenhetz Untere Weißgerberstraße 41 Wien Wien 1030 Österreich;X-APPLE-RADIUS=500;X-TITLE=Untere Weißgerberstraße 41:geo:16.3946163,48.2084854
END:VEVENT
END:VCALENDAR