BEGIN:VCALENDAR
VERSION:2.0
PRODID:-//STRAWANZERIN - ECPv4.9.5//NONSGML v1.0//EN
CALSCALE:GREGORIAN
METHOD:PUBLISH
X-WR-CALNAME:STRAWANZERIN
X-ORIGINAL-URL:https://www.strawanzerin.at
X-WR-CALDESC:Veranstaltungen im STRAWANZERIN
BEGIN:VTIMEZONE
TZID:"Europe/Paris"
BEGIN:DAYLIGHT
TZOFFSETFROM:+0100
TZOFFSETTO:+0200
TZNAME:CEST
DTSTART:20150329T010000
END:DAYLIGHT
BEGIN:STANDARD
TZOFFSETFROM:+0200
TZOFFSETTO:+0100
TZNAME:CET
DTSTART:20151025T010000
END:STANDARD
END:VTIMEZONE
BEGIN:VEVENT
DTSTART;TZID="Europe/Paris":20150609T190000
DTEND;TZID="Europe/Paris":20150609T190000
DTSTAMP:20260423T195122
CREATED:20150609T171657Z
LAST-MODIFIED:20150612T094644Z
UID:17511-1433876400-1433876400@www.strawanzerin.at
SUMMARY:Help me... if you canWenn Rassismus Mitgefühl erstickt
DESCRIPTION:21.Juni 2015\, 11 Uhr\nfilmcasino\, 1050 Wien\, Margaretenstrasse 78 \n
URL:https://www.strawanzerin.at/termin/help-me-if-you-canwenn-rassismus-mitgefuehl-erstickt/
CATEGORIES:Antirassimus,Deutsch,Film,Gratis,Wien
END:VEVENT
END:VCALENDAR