BEGIN:VCALENDAR
VERSION:2.0
PRODID:-//STRAWANZERIN - ECPv4.9.5//NONSGML v1.0//EN
CALSCALE:GREGORIAN
METHOD:PUBLISH
X-WR-CALNAME:STRAWANZERIN
X-ORIGINAL-URL:https://www.strawanzerin.at
X-WR-CALDESC:Veranstaltungen im STRAWANZERIN
BEGIN:VTIMEZONE
TZID:"Europe/Vienna"
BEGIN:DAYLIGHT
TZOFFSETFROM:+0100
TZOFFSETTO:+0200
TZNAME:CEST
DTSTART:20250330T010000
END:DAYLIGHT
BEGIN:STANDARD
TZOFFSETFROM:+0200
TZOFFSETTO:+0100
TZNAME:CET
DTSTART:20251026T010000
END:STANDARD
END:VTIMEZONE
BEGIN:VEVENT
DTSTART;TZID="Europe/Vienna":20250301T140000
DTEND;TZID="Europe/Vienna":20250301T150000
DTSTAMP:20260423T104756
CREATED:20250206T125443Z
LAST-MODIFIED:20250206T125443Z
UID:105808-1740837600-1740841200@www.strawanzerin.at
SUMMARY:Henrike Iglesias & Miss Theatre - AFTERLIVES
DESCRIPTION:Wo sind wir\, wenn wir nicht da sind? AFTERLIVES ist eine Zusammenarbeit des Kollektivs Henrike Iglesias mit dem thailändischen Kollektiv Miss Theatre um die Künstlerin Miss Oat und zahlreichen weiteren Kollaborateur*innen. Die multimediale\, interaktive Performance findet zeitgleich in Wien und Bangkok statt: Gemeinsam mit den beiden Zuschauer*innengruppen\, durch Smartphones miteinander verbunden\, begeben sie sich die Performer*innen auf die Suche nach queeren AFTERLIVES.\nDie Theorie des Multiversums\, basierend auf Grundlagen der Quantentheorie\, dient in AFTERLIVES als Metapher\, narratives Mittel und Inspirationsquelle\, um über das eigene Leben nach dem Tod zu spekulieren\, über queere Politiken des Sterbens und alternative Formen des Zusammenlebens. In Bangkok und Wien wird sich das Publikum im Theaterraum versammeln und mit dem eigenen Smartphone mit der Performance interagieren. Das Handy wird zum Portal\, das die Räume und Zuschauer*innen miteinander verbindet. Welche parallelen Realitäten sind denkbar? Wo sind wir\, wenn wir nicht da sind? Wie müssen wir uns begegnen\, um uns verbunden zu fühlen? Und wo finden wir zusammen\, um füreinander zu sorgen und umeinander zu trauern? \n
URL:https://www.strawanzerin.at/termin/henrike-iglesias-miss-theatre-afterlives/
LOCATION:brut nordwest\, Nordwestbahnstraße 8-10\, Wien\, Wien\, 1200\, Österreich
ATTACH;FMTTYPE=image/jpeg:https://www.strawanzerin.at/wp-content/uploads/2025/01/web_henrike-iglesias-afterlives_c_harit_srikhao-1.jpg
END:VEVENT
END:VCALENDAR