BEGIN:VCALENDAR
VERSION:2.0
PRODID:-//STRAWANZERIN - ECPv4.9.5//NONSGML v1.0//EN
CALSCALE:GREGORIAN
METHOD:PUBLISH
X-WR-CALNAME:STRAWANZERIN
X-ORIGINAL-URL:https://www.strawanzerin.at
X-WR-CALDESC:Veranstaltungen im STRAWANZERIN
BEGIN:VTIMEZONE
TZID:"Europe/Vienna"
BEGIN:DAYLIGHT
TZOFFSETFROM:+0100
TZOFFSETTO:+0200
TZNAME:CEST
DTSTART:20180325T010000
END:DAYLIGHT
BEGIN:STANDARD
TZOFFSETFROM:+0200
TZOFFSETTO:+0100
TZNAME:CET
DTSTART:20181028T010000
END:STANDARD
END:VTIMEZONE
BEGIN:VEVENT
DTSTART;TZID="Europe/Vienna":20180525T193000
DTEND;TZID="Europe/Vienna":20180525T210000
DTSTAMP:20260421T171228
CREATED:20180419T074650Z
LAST-MODIFIED:20180425T072338Z
UID:54497-1527276600-1527282000@www.strawanzerin.at
SUMMARY:Herbert sucht sein Paradies – ein Kabarett
DESCRIPTION:Wien: Kleinkunst-Café GenussSpiegel – Café\, Kunst und Kulinarik | Wien: Kleinkunst-Café GenussSpiegel – Café\, Kunst und Kulinarik | Das Kleinkunst-Café GenussSpiegel präsentiert: Herbert sucht sein Paradies – ein Kabarett SOLO-KABARETT der ganz besonderen Art \nMag. Herbert Gottsbacher\, ein Versicherungsvertreter\, der mit der Musik von Johnny Cash und seinem Aktenkoffer auf der Suche nach seinem Paradies ist. Er genügt sich selbst\, versichert Mögliches und Unmögliches\, ist life- und chrisesmanager und hat auf alles eine Antwort. Seine Hobbys sind Zaubertricks und Frauen. Herbert ist eine im Leben stehende Person\, er ist Spiegel unserer Abgründe und dennoch so sympathisch. Begleitet auf seiner Suche wird er von seiner überaus hübschen Gattin Babsi. Eine Soloperformance der besonderen Art von und mit Ingeborg SCHWAB. \nFreitag\, 25. Mai 2018\nBeginn 19:30 Uhr [Einlass 19:00 Uhr] \nTicket Kabarettbeitrag € 18\,-  \nSitzplatzreservierung unter:\noffice@genuss-spiegel.at oder per Telefon 0676 57 23 0 23 \nKleinkunst-Café GenussSpiegel\n1230 Wien\, Levasseurgasse 19\nfacebook.com/GenussSpiegel\nwww.genuss-spiegel.at \n
URL:https://www.strawanzerin.at/termin/herbert-sucht-sein-paradies-ein-kabarett/
LOCATION:Kleinkunst-Café GenussSpiegel – Café\, Kunst & Kulinarik\, Levasseurgasse 19\, Wien\, Wien\, 1230\, Österreich
CATEGORIES:Theater/Kabarett
ATTACH;FMTTYPE=image/jpeg:https://www.strawanzerin.at/wp-content/uploads/2018/04/DSC_0380-Favorit.jpg
ORGANIZER;CN="Sabina%20Anna%20Pekarek":MAILTO:office@genuss-spiegel.at
GEO:48.1471746;16.2947927
X-APPLE-STRUCTURED-LOCATION;VALUE=URI;X-ADDRESS=Kleinkunst-Café GenussSpiegel – Café Kunst & Kulinarik Levasseurgasse 19 Wien Wien 1230 Österreich;X-APPLE-RADIUS=500;X-TITLE=Levasseurgasse 19:geo:16.2947927,48.1471746
END:VEVENT
END:VCALENDAR