BEGIN:VCALENDAR
VERSION:2.0
PRODID:-//STRAWANZERIN - ECPv4.9.5//NONSGML v1.0//EN
CALSCALE:GREGORIAN
METHOD:PUBLISH
X-WR-CALNAME:STRAWANZERIN
X-ORIGINAL-URL:https://www.strawanzerin.at
X-WR-CALDESC:Veranstaltungen im STRAWANZERIN
BEGIN:VTIMEZONE
TZID:"Europe/Vienna"
BEGIN:DAYLIGHT
TZOFFSETFROM:+0100
TZOFFSETTO:+0200
TZNAME:CEST
DTSTART:20190331T010000
END:DAYLIGHT
BEGIN:STANDARD
TZOFFSETFROM:+0200
TZOFFSETTO:+0100
TZNAME:CET
DTSTART:20191027T010000
END:STANDARD
END:VTIMEZONE
BEGIN:VEVENT
DTSTART;TZID="Europe/Vienna":20191120T183000
DTEND;TZID="Europe/Vienna":20191120T183000
DTSTAMP:20260421T090257
CREATED:20191115T150902Z
LAST-MODIFIED:20191115T150902Z
UID:70405-1574274600-1574274600@www.strawanzerin.at
SUMMARY:»Herbst« – Lesung zu einem fast philosophischen Thema
DESCRIPTION:ANIMA INCOGNITA KULTURVEREIN\nlädt zu einem literarischen Abend ein \n„HERR\, LEG DEINEN SCHATTEN \nAUF DIE SONNENUHREN …“ R. M. Rilke) \nLesung zu einem fast philosophischen Thema\n„HERBST“ \nIM PROGRAMM \nWalter Baco\nSophia Benedict\nSidonia Gall\nChristl Greller\nMarianne Gruber\nEva M. Kittelmann\nChristine Nyirady\nVerena Prandstätter\nNina Roiter\nElisabeth Schawerda\nRosemarie Schulak\nClaudia Taller\nH. M. Magdalena Tschurlovits\nPeter Paul Wiplinger \nBegrüßung:\nDiana Wiedra\nLeiterin des Anima incognita Kulturvereins\nModeration:\nChristine Nyirady \nAm 20. November 2019 um 18.30 Uhr\nim Kunstraum der Ringstraßen Galerien\, Kärntnerring 11-13 / 144\, 1010 Wien \nZum Ausklang des Abends freuen wir uns auf Gespräche bei Brot und Wein\nMit der Teilnahme stimmen Sie der Veröffentlichung von Fotos und Filmaufnahmen\, die im Rahmen der Veranstaltung entstehen\, zu \n
URL:https://www.strawanzerin.at/termin/herbst-lesung-zu-einem-fast-philosophischen-thema/
LOCATION:Kunstraum der Ringstraßen Galerien\, Kärntner Ring 9-13\, Wien\, Wien\, 1010\, Österreich
CATEGORIES:Eintrittspreis,Gratis,Kategorie,Literatur,Region/Bundesland,Wien
ATTACH;FMTTYPE=image/jpeg:https://www.strawanzerin.at/wp-content/uploads/2019/11/Herrleg_web.jpg
ORGANIZER;CN="Kunstverein%20Anima%20incognita":MAILTO:diana.wiedra@chello.at
GEO:48.2021105;16.3720841
X-APPLE-STRUCTURED-LOCATION;VALUE=URI;X-ADDRESS=Kunstraum der Ringstraßen Galerien Kärntner Ring 9-13 Wien Wien 1010 Österreich;X-APPLE-RADIUS=500;X-TITLE=Kärntner Ring 9-13:geo:16.3720841,48.2021105
END:VEVENT
END:VCALENDAR