BEGIN:VCALENDAR
VERSION:2.0
PRODID:-//STRAWANZERIN - ECPv4.9.5//NONSGML v1.0//EN
CALSCALE:GREGORIAN
METHOD:PUBLISH
X-WR-CALNAME:STRAWANZERIN
X-ORIGINAL-URL:https://www.strawanzerin.at
X-WR-CALDESC:Veranstaltungen im STRAWANZERIN
BEGIN:VTIMEZONE
TZID:"Europe/Vienna"
BEGIN:DAYLIGHT
TZOFFSETFROM:+0100
TZOFFSETTO:+0200
TZNAME:CEST
DTSTART:20170326T010000
END:DAYLIGHT
BEGIN:STANDARD
TZOFFSETFROM:+0200
TZOFFSETTO:+0100
TZNAME:CET
DTSTART:20171029T010000
END:STANDARD
END:VTIMEZONE
BEGIN:VEVENT
DTSTART;TZID="Europe/Vienna":20171125T193000
DTEND;TZID="Europe/Vienna":20171125T213000
DTSTAMP:20260420T162133
CREATED:20171122T173827Z
LAST-MODIFIED:20171123T163856Z
UID:50027-1511638200-1511645400@www.strawanzerin.at
SUMMARY:Herbstkonzert des Concentus21 – Junge Solistin spielt Beethoven
DESCRIPTION:Am 25.11.2017 findet zum wiederholten male das beliebte Herbstkonzert des concentus21 statt. \nUnter der Leitung von Herbert Krenn spielt das Orchester mit Solistin Elisa Wallnöfer im schönen „Neuen Burgsaal“ in der Burg Perchtoldsdorf. \nAuf dem Programm stehen:\n– Ludwig van Beethoven Klarvierkonzert No. 3 in c-Moll\n– Carl Czerny Symphonie No. 1 in c-Moll \nDie Vorsitzende des Orchestervereins Concentus21\, Cornelia Szabó-Knotik meint zur Programmauswahl:\nEin Konzert\, das wunderbar zu bevorstehenden Adventszeit passt. Den Anfang macht Ludwig v. Beethovens berühmtes drittes Klavierkonzert c-Moll op. 37 mit der jungen aber bereits sehr erfolgreichen Pianistin Elisa Wallnöfer. Im zweiten Teil steht dann die 1. Symphonie in c-Moll von Carl Czerny auf dem Programm\, ein Werk\, das heute zwar vergessen ist\, aber den zu Unrecht so genannten „Etüden-Czerny“ als bemerkenswerten Symphoniker zeigt. \nTickets unter www.concentus21.at/shop\, unter www.perchtoldsdorf.at/tickets\, per Mail bei info@perchtoldsdorf.at oder Tel.: 01 866 834 00. \n
URL:https://www.strawanzerin.at/termin/herbstkonzert-des-concentus21-junge-solistin-spielt-beethoven-2/
LOCATION:Burg Perchtoldsdorf\, Paul Katzberger Platz 1\, Perchtoldsdorf\, Niederösterreich\, Österreich
CATEGORIES:ab 7,Musik,Niederösterreich,Wien
ATTACH;FMTTYPE=image/jpeg:https://www.strawanzerin.at/wp-content/uploads/2017/11/Elisa-Wallnöfer-by-Theresa-Pewal-38.jpg
GEO:48.1382979;16.2691121
X-APPLE-STRUCTURED-LOCATION;VALUE=URI;X-ADDRESS=Burg Perchtoldsdorf Paul Katzberger Platz 1 Perchtoldsdorf Niederösterreich Österreich;X-APPLE-RADIUS=500;X-TITLE=Paul Katzberger Platz 1:geo:16.2691121,48.1382979
END:VEVENT
END:VCALENDAR