BEGIN:VCALENDAR
VERSION:2.0
PRODID:-//STRAWANZERIN - ECPv4.9.5//NONSGML v1.0//EN
CALSCALE:GREGORIAN
METHOD:PUBLISH
X-WR-CALNAME:STRAWANZERIN
X-ORIGINAL-URL:https://www.strawanzerin.at
X-WR-CALDESC:Veranstaltungen im STRAWANZERIN
BEGIN:VTIMEZONE
TZID:"Europe/Helsinki"
BEGIN:DAYLIGHT
TZOFFSETFROM:+0200
TZOFFSETTO:+0300
TZNAME:EEST
DTSTART:20150329T010000
END:DAYLIGHT
BEGIN:STANDARD
TZOFFSETFROM:+0300
TZOFFSETTO:+0200
TZNAME:EET
DTSTART:20151025T010000
END:STANDARD
END:VTIMEZONE
BEGIN:VEVENT
DTSTART;TZID="Europe/Helsinki":20150202T200000
DTEND;TZID="Europe/Helsinki":20150202T200000
DTSTAMP:20260420T165754
CREATED:20141229T101549Z
LAST-MODIFIED:20150107T200614Z
UID:9389-1422907200-1422907200@www.strawanzerin.at
SUMMARY:Heroes
DESCRIPTION:Drei Frauen. Viele Verhöre.  \nKarten \n– Eine Produktion von Romano Svato in Kooperation mit WERK X \nInszenierung: Sandra Selimović\nText: Marianne Strauhs \nMit: Cristina Ablinger\, Simonida Selimović\, Denise Teipel \nIn der Schubhaft treffen drei Frauen aus der arabischen Welt\, Südosteuropa und dem persischen Kulturraum aufeinander. Egal ob Flucht aus politischen Gründen\, Flucht aus wirtschaftlichen Gründen oder Flucht aufgrund Homosexualität: eines haben sie gemeinsam. – Sie ließen alles hinter sich. \nAlle drei flüchteten aus Situationen mit brutaler (männlicher) Machtausübung um sich schließlich in einem der sichersten Länder der Welt in keiner besseren Situation wiederzufinden. Stundenlang sind sie Verhören ausgesetzt. Über allem schwebt die große Ungewissheit wie ihre Zukunft aussehen wird. In den Verhören interessiert die Beamten vor allem folgende Frage: Wer sind die Schlepper\, die die Frauen in die “Festung Europa” schmuggelten? \nAuch der Roma-Verein Romano Svato (Sandra & Simonida Selimović) ist dieser Frage nachgegangen: Wer sind “diese” Schlepper? Sind sie schwere Kriminelle oder doch mutige Lebensretter? \nGemeinsam mit der Autorin Marianne Strauhs werden drei Lebensgeschichten aufgerollt und die Frage nach der “wahren” Geschichte gestellt. \n
URL:https://www.strawanzerin.at/termin/heroes/2015-02-02/
LOCATION:WERK X-Eldorado\, Petersplatz 1\, Wien\, Wien\, 1010\, Österreich
CATEGORIES:Deutsch,Kunst/Kultur,Niederösterreich,Theater/Kabarett
ATTACH;FMTTYPE=image/jpeg:https://www.strawanzerin.at/wp-content/uploads/2014/12/Logo.jpg
ORGANIZER;CN="WERK%20X":MAILTO:buero@werk-x.at
GEO:48.2091048;16.3701238
X-APPLE-STRUCTURED-LOCATION;VALUE=URI;X-ADDRESS=WERK X-Eldorado Petersplatz 1 Wien Wien 1010 Österreich;X-APPLE-RADIUS=500;X-TITLE=Petersplatz 1:geo:16.3701238,48.2091048
END:VEVENT
END:VCALENDAR