BEGIN:VCALENDAR
VERSION:2.0
PRODID:-//STRAWANZERIN - ECPv4.9.5//NONSGML v1.0//EN
CALSCALE:GREGORIAN
METHOD:PUBLISH
X-WR-CALNAME:STRAWANZERIN
X-ORIGINAL-URL:https://www.strawanzerin.at
X-WR-CALDESC:Veranstaltungen im STRAWANZERIN
BEGIN:VTIMEZONE
TZID:"Europe/Helsinki"
BEGIN:DAYLIGHT
TZOFFSETFROM:+0200
TZOFFSETTO:+0300
TZNAME:EEST
DTSTART:20150329T010000
END:DAYLIGHT
BEGIN:STANDARD
TZOFFSETFROM:+0300
TZOFFSETTO:+0200
TZNAME:EET
DTSTART:20151025T010000
END:STANDARD
END:VTIMEZONE
BEGIN:VEVENT
DTSTART;TZID="Europe/Helsinki":20150312T180000
DTEND;TZID="Europe/Helsinki":20150312T180000
DTSTAMP:20260419T172745
CREATED:20141210T154939Z
LAST-MODIFIED:20141210T154939Z
UID:9296-1426183200-1426183200@www.strawanzerin.at
SUMMARY:Herrliche Damen " Womans World "
DESCRIPTION:Travestie vom Feinsten \nPrachtvolle Kostüme\, gute Laune und jede Menge Überraschungen: Bei „Woman’s World“\, der diesjährigen Show der Herrlichen Damen\, dreht sich alles um die vielen Facetten der Weiblichkeit. Unter der Leitung von Christian Vazansky alias Bobby Blue und begleitet von vielen großen Hits der Pop- und Musicalwelt schlüpfen die Travestiemeister in die verschiedensten Frauenrollen und begeistern damit ihr Publikum. Pompöse Unterhaltung ist an diesem unvergesslichen Abend garantiert! \n
URL:https://www.strawanzerin.at/termin/herrliche-damen-womans-world/2015-03-12/
LOCATION:OVAL – Die Bühne im Europark\,  Europastraße 1\, Salzburg\, Salzburg\, 5020\, Vereinigte Staaten
CATEGORIES:Deutsch,Eintrittspreis,Kunst/Kultur,Salzburg,Theater/Kabarett
ATTACH;FMTTYPE=image/jpeg:https://www.strawanzerin.at/wp-content/uploads/2014/12/10513324_10202549406767700_6684632759275833024_n1.jpg
ORGANIZER;CN="Herrliche%20Damen":MAILTO:info@herrliche-damen.at
GEO:47.816629;13.0091885
X-APPLE-STRUCTURED-LOCATION;VALUE=URI;X-ADDRESS=OVAL – Die Bühne im Europark  Europastraße 1 Salzburg Salzburg 5020 Vereinigte Staaten;X-APPLE-RADIUS=500;X-TITLE=Europastraße 1:geo:13.0091885,47.816629
END:VEVENT
END:VCALENDAR