BEGIN:VCALENDAR
VERSION:2.0
PRODID:-//STRAWANZERIN - ECPv4.9.5//NONSGML v1.0//EN
CALSCALE:GREGORIAN
METHOD:PUBLISH
X-WR-CALNAME:STRAWANZERIN
X-ORIGINAL-URL:https://www.strawanzerin.at
X-WR-CALDESC:Veranstaltungen im STRAWANZERIN
BEGIN:VTIMEZONE
TZID:"Europe/Vienna"
BEGIN:DAYLIGHT
TZOFFSETFROM:+0100
TZOFFSETTO:+0200
TZNAME:CEST
DTSTART:20220327T010000
END:DAYLIGHT
BEGIN:STANDARD
TZOFFSETFROM:+0200
TZOFFSETTO:+0100
TZNAME:CET
DTSTART:20221030T010000
END:STANDARD
END:VTIMEZONE
BEGIN:VEVENT
DTSTART;TZID="Europe/Vienna":20220217T193000
DTEND;TZID="Europe/Vienna":20220217T210000
DTSTAMP:20260420T161552
CREATED:20220113T152145Z
LAST-MODIFIED:20220113T152145Z
UID:82323-1645126200-1645131600@www.strawanzerin.at
SUMMARY:Herrschaftszeiten (noch mal?)
DESCRIPTION:Inszenierung & Text: Schorsch Kamerun\nBühne & Kostüm: Katja Eichbaum\nMusik: PC Nackt\, Schorsch Kamerun\nDramaturgie: Hannah Lioba Egenolf\nRegieassistenz: Alina Hainig\nWer bestimmt wie und was\, über wen und wo? Und warum eigentlich? Das Projekt „Herrschaftszeiten (noch mal?)“ will Machtverhältnisse von früher (K.u.K. = Kaiserlich und Königlich) bis heute (S.u.K. = Sebastian und Kurz) untersuchen. Macht und dessen Missbrauch gilt als (unabschüttelbare?) Geißel der Menschheit. Sie wird alt und neu erzählt\, manchmal besiegt und oft wieder ausgegraben. Als lärmendes oder auch schon mal geruchloses Gift durchdringt sie Politik\, Kultur\, Öffentlichkeit und nicht zuletzt den privaten Raum. Wo aber fußen die Wurzeln der systemischen Hierarchien\, mit ihren teils verheerenden Ansprüchen und Ausbrüchen? Sind ihre Blüten zwangsläufig und konstant\, oder aktuell nur mal wieder neu aufgeschwungen\, beispielsweise durch den viel erwähnten Neopopulismus? \nTheatermacher Schorsch Kamerun und ein unerschrockenes Team aus Mitstreiter*innen\, bestehend aus Musik- und Darstellungsprofis (und oder deren Anzweifler*innen)\, wollen in einer Art archaischem Selbstversuch durchspielen wie Machtmechanismen funktionieren und wie sie sich möglicherweise ein Stück weit austricksen lassen. Ziel ist es\, eine andere Zukunft in einem achtsameren\, diverseren Miteinander zu beschreiben\, mit ausgleichenden\, nichthierarchischen Beziehungen in denen die „Zeiten der Herrschaft noch mal“\, zwar noch einmal alt-höfisch anklopfen dürfen\, um dann aber inklusive ihrer aktuellen\, stierhörnigen Nachfahren endgültig zur Hölle zu fahren. \n
URL:https://www.strawanzerin.at/termin/herrschaftszeiten-noch-mal/2022-02-17/
LOCATION:WERK X\, Oswaldgasse 35A\, Wien\, Wien\, 1120\, Österreich
ATTACH;FMTTYPE=image/jpeg:https://www.strawanzerin.at/wp-content/uploads/2022/01/WerkX_2122_Web_750x500_Herrschaftszeiten.jpg
ORGANIZER;CN="WERK%20X":MAILTO:buero@werk-x.at
GEO:48.1662859;16.3245824
X-APPLE-STRUCTURED-LOCATION;VALUE=URI;X-ADDRESS=WERK X Oswaldgasse 35A Wien Wien 1120 Österreich;X-APPLE-RADIUS=500;X-TITLE=Oswaldgasse 35A:geo:16.3245824,48.1662859
END:VEVENT
END:VCALENDAR