BEGIN:VCALENDAR
VERSION:2.0
PRODID:-//STRAWANZERIN - ECPv4.9.5//NONSGML v1.0//EN
CALSCALE:GREGORIAN
METHOD:PUBLISH
X-WR-CALNAME:STRAWANZERIN
X-ORIGINAL-URL:https://www.strawanzerin.at
X-WR-CALDESC:Veranstaltungen im STRAWANZERIN
BEGIN:VTIMEZONE
TZID:"Europe/Helsinki"
BEGIN:DAYLIGHT
TZOFFSETFROM:+0200
TZOFFSETTO:+0300
TZNAME:EEST
DTSTART:20140330T010000
END:DAYLIGHT
BEGIN:STANDARD
TZOFFSETFROM:+0300
TZOFFSETTO:+0200
TZNAME:EET
DTSTART:20141026T010000
END:STANDARD
END:VTIMEZONE
BEGIN:VEVENT
DTSTART;TZID="Europe/Helsinki":20140627T190000
DTEND;TZID="Europe/Helsinki":20140627T190000
DTSTAMP:20260420T144637
CREATED:20140618T113957Z
LAST-MODIFIED:20140618T114117Z
UID:3124-1403895600-1403895600@www.strawanzerin.at
SUMMARY:Herzmilch
DESCRIPTION:Lesung und Heftpräsentation Gertraud Klemm \n
URL:https://www.strawanzerin.at/termin/herzmilch/
LOCATION:ChickLit\, Kleeblattgasse 7\, Wien\, Wien\, 1010\, Österreich
CATEGORIES:Deutsch,Gratis,Kunst/Kultur,Literatur,Wien
ORGANIZER;CN="ChickLit":MAILTO:buchhandlung@chicklit.at
GEO:48.2107551;16.3701233
X-APPLE-STRUCTURED-LOCATION;VALUE=URI;X-ADDRESS=ChickLit Kleeblattgasse 7 Wien Wien 1010 Österreich;X-APPLE-RADIUS=500;X-TITLE=Kleeblattgasse 7:geo:16.3701233,48.2107551
END:VEVENT
END:VCALENDAR