BEGIN:VCALENDAR
VERSION:2.0
PRODID:-//STRAWANZERIN - ECPv4.9.5//NONSGML v1.0//EN
CALSCALE:GREGORIAN
METHOD:PUBLISH
X-WR-CALNAME:STRAWANZERIN
X-ORIGINAL-URL:https://www.strawanzerin.at
X-WR-CALDESC:Veranstaltungen im STRAWANZERIN
BEGIN:VTIMEZONE
TZID:"Europe/Vienna"
BEGIN:DAYLIGHT
TZOFFSETFROM:+0100
TZOFFSETTO:+0200
TZNAME:CEST
DTSTART:20190331T010000
END:DAYLIGHT
BEGIN:STANDARD
TZOFFSETFROM:+0200
TZOFFSETTO:+0100
TZNAME:CET
DTSTART:20191027T010000
END:STANDARD
END:VTIMEZONE
BEGIN:VEVENT
DTSTART;TZID="Europe/Vienna":20190613T170000
DTEND;TZID="Europe/Vienna":20190613T183000
DTSTAMP:20260421T020152
CREATED:20190529T111648Z
LAST-MODIFIED:20190529T111648Z
UID:65353-1560445200-1560450600@www.strawanzerin.at
SUMMARY:Hier ist viel los!
DESCRIPTION:Eine bunte Auswahl aus dem Repertoire von Kerschbaums Tonvoll \nKerschbaums Tonvoll ist ein über die Grenzen des 4. Bezirks bekannter Kinderchor für Kinder und Jugendliche im Alter von 5 bis 16 Jahren. \nBei diesem Konzert präsentiert der Chor Lieder aus seinen Musicals und CD Produktionen. Die Texte wurden von Kindern\, Jugendlichen und Erwachsenen\, die dem Chor nahestehen\, verfasst. Vertont wurden die Lieder ausschließlich von Stephan Kerschbaum\, der den Chor 1980 gegründet hat. \n
URL:https://www.strawanzerin.at/termin/hier-ist-viel-los/
LOCATION:Pfarre St. Florian\, Wiedner Hauptstraße 97\, Wien\, Wien\, 1050\, Österreich
CATEGORIES:Barrierefrei,Deutsch,freie Spende,Kinderkultur,Kunst/Kultur,Musik,Wien
ATTACH;FMTTYPE=image/jpeg:https://www.strawanzerin.at/wp-content/uploads/2019/05/Viel-los_Instagram.jpg
ORGANIZER;CN="Kerschbaums%20Tonvoll":MAILTO:chor@tonvoll.at
GEO:48.1859601;16.3634052
X-APPLE-STRUCTURED-LOCATION;VALUE=URI;X-ADDRESS=Pfarre St. Florian Wiedner Hauptstraße 97 Wien Wien 1050 Österreich;X-APPLE-RADIUS=500;X-TITLE=Wiedner Hauptstraße 97:geo:16.3634052,48.1859601
END:VEVENT
END:VCALENDAR