BEGIN:VCALENDAR
VERSION:2.0
PRODID:-//STRAWANZERIN - ECPv4.9.5//NONSGML v1.0//EN
CALSCALE:GREGORIAN
METHOD:PUBLISH
X-WR-CALNAME:STRAWANZERIN
X-ORIGINAL-URL:https://www.strawanzerin.at
X-WR-CALDESC:Veranstaltungen im STRAWANZERIN
BEGIN:VTIMEZONE
TZID:"Europe/Paris"
BEGIN:DAYLIGHT
TZOFFSETFROM:+0100
TZOFFSETTO:+0200
TZNAME:CEST
DTSTART:20150329T010000
END:DAYLIGHT
BEGIN:STANDARD
TZOFFSETFROM:+0200
TZOFFSETTO:+0100
TZNAME:CET
DTSTART:20151025T010000
END:STANDARD
END:VTIMEZONE
BEGIN:VEVENT
DTSTART;TZID="Europe/Paris":20150808T100000
DTEND;TZID="Europe/Paris":20150808T130000
DTSTAMP:20260422T060354
CREATED:20150728T132601Z
LAST-MODIFIED:20150729T164224Z
UID:18729-1439028000-1439038800@www.strawanzerin.at
SUMMARY:Hiroshima-Aktion für eine Welt ohne Atomwaffen
DESCRIPTION:Informationen\, Begegnungen\, Diskussionen in der Melker FußgängerInnenzone (vor dem Rathaus) \n
URL:https://www.strawanzerin.at/termin/hiroshima-aktion-fuer-eine-welt-ohne-atomwaffen-2/
LOCATION:Melker FußgängerInnenzone\, vor dem Rathaus\, Melk\, Niederösterreich\, 3390\, Österreich
CATEGORIES:Antimilitarismus,Deutsch,Kundgebung,Wien
ATTACH;FMTTYPE=:
GEO:48.22647;15.34996
X-APPLE-STRUCTURED-LOCATION;VALUE=URI;X-ADDRESS=Melker FußgängerInnenzone vor dem Rathaus Melk Niederösterreich 3390 Österreich;X-APPLE-RADIUS=500;X-TITLE=vor dem Rathaus:geo:15.34996,48.22647
END:VEVENT
END:VCALENDAR