BEGIN:VCALENDAR
VERSION:2.0
PRODID:-//STRAWANZERIN - ECPv4.9.5//NONSGML v1.0//EN
CALSCALE:GREGORIAN
METHOD:PUBLISH
X-WR-CALNAME:STRAWANZERIN
X-ORIGINAL-URL:https://www.strawanzerin.at
X-WR-CALDESC:Veranstaltungen im STRAWANZERIN
BEGIN:VTIMEZONE
TZID:"Europe/Helsinki"
BEGIN:DAYLIGHT
TZOFFSETFROM:+0200
TZOFFSETTO:+0300
TZNAME:EEST
DTSTART:20160327T010000
END:DAYLIGHT
BEGIN:STANDARD
TZOFFSETFROM:+0300
TZOFFSETTO:+0200
TZNAME:EET
DTSTART:20161030T010000
END:STANDARD
END:VTIMEZONE
BEGIN:VEVENT
DTSTART;TZID="Europe/Helsinki":20161106T090000
DTEND;TZID="Europe/Helsinki":20161106T150000
DTSTAMP:20260420T183010
CREATED:20161010T114901Z
LAST-MODIFIED:20161010T153304Z
UID:34689-1478422800-1478444400@www.strawanzerin.at
SUMMARY:Historientag veranschaulicht Entwicklung europäischer Fechtkunst
DESCRIPTION:Am Sonntag\, 6. November\, präsentiert die Gruppe »Klingenspiel« um 11 und 14 Uhr im Heeresgeschichtlichen Museum typische Fecht- und Kampftechniken quer durch die Jahrhunderte. Die Reise geht vom Mittelalter bis ins 20. Jahrhundert\, durch Länder\, wie Deutschland\, England\, Frankreich\, Polen\, Spanien und viele mehr.  \nDer Eintritt ins Museum ist an diesem Tag frei! \nFoto/© Klingenspiel  \n
URL:https://www.strawanzerin.at/termin/historientag-veranschaulicht-entwicklung-europaeischer-fechtkunst/
LOCATION:Heeresgeschichtliches Museum\, Arsenal\, Wien\, Wien\, 1030\, Österreich
CATEGORIES:Deutsch,Gratis,Wien
ATTACH;FMTTYPE=image/jpeg:https://www.strawanzerin.at/wp-content/uploads/2016/10/Klingenspiel.jpg
GEO:48.1833104;16.3932274
X-APPLE-STRUCTURED-LOCATION;VALUE=URI;X-ADDRESS=Heeresgeschichtliches Museum Arsenal Wien Wien 1030 Österreich;X-APPLE-RADIUS=500;X-TITLE=Arsenal:geo:16.3932274,48.1833104
END:VEVENT
END:VCALENDAR