BEGIN:VCALENDAR
VERSION:2.0
PRODID:-//STRAWANZERIN - ECPv4.9.5//NONSGML v1.0//EN
CALSCALE:GREGORIAN
METHOD:PUBLISH
X-WR-CALNAME:STRAWANZERIN
X-ORIGINAL-URL:https://www.strawanzerin.at
X-WR-CALDESC:Veranstaltungen im STRAWANZERIN
BEGIN:VTIMEZONE
TZID:"Europe/Vienna"
BEGIN:DAYLIGHT
TZOFFSETFROM:+0100
TZOFFSETTO:+0200
TZNAME:CEST
DTSTART:20180325T010000
END:DAYLIGHT
BEGIN:STANDARD
TZOFFSETFROM:+0200
TZOFFSETTO:+0100
TZNAME:CET
DTSTART:20181028T010000
END:STANDARD
END:VTIMEZONE
BEGIN:VEVENT
DTSTART;TZID="Europe/Vienna":20181012T193000
DTEND;TZID="Europe/Vienna":20181012T233000
DTSTAMP:20260421T175800
CREATED:20180919T075132Z
LAST-MODIFIED:20180919T075132Z
UID:58828-1539372600-1539387000@www.strawanzerin.at
SUMMARY:"hoerthoert" Festival für Zuhörkultur 2018
DESCRIPTION:Das „hoerthoert“-Festival präsentiert am 12. und 13. Oktober 2018 zum sechsten Mal in Wien sechs Konzerte und garantiert damit zwei ereignisreiche Abende:\nMit „Pneuma“\, „Little Rosies Kindergarten“\, „Harnisch/Fina/Santner“\, „Grammophon Acoustic Project“\, „Duo4675“ und dem „Klangzeugorchester“. Was alle MusikerInnen verbindet\, ist ihr innovativer Zugang zur Musik.\nVielfältiges Programm\nDas Tiroler Trio„Grammophon Acoustic Project“ lässt aus vielfältigen Einflüßen\, Artrock\,\nKammermusik und elektronischer Musik einen vielschichtigen\, verdichteten Sound entstehen.\n„Pneuma“ haben sich der zeitgenössischen komponierten als auch improvisierten Musik\nverschrieben und und betreiben in ungewöhnlicher Besetzung akribische Klangforschung. Bei\n„Harnisch/Fina/Santner“ steht schlicht das Schöne im Vordergrund\, das Trio nimmt Zeit und\nreduziert auf das Wesentliche.\nBeim dreizehnköpfigen Kollektiv „Little Rosies Kindergarten“ geht es ganz herrlich drunter\nund drüber\, mit eigenwilligen Kompositionen und aufgeräumter Improvisationen versprechen sie\neine außergewöhnliche Performance. Mit dem „Klangzeugorchester“ gastiert das wohl kleinste\nOrchester der Welt\, beeindruckt nichtsdestotrotz aber mit Vielseitigkeit und\nAbwechslungsreichtum. Das „Duo 4675“ versteht seine Musik als Analogie der Dualität einer\nGeschwisterschaft\, zwei Teile die für das Ganze stehen und ein Ganzes\, das zwei Pole\nauszudrücken vermag.\nEin Festival für Spiel- und Hörfreudige!\nJazz und Improvisierte Musik begeistert! …und sie ist gekennzeichnet durch Offenheit. Die\nEnsembles beeindrucken mit stilistisch breitgefächerter Vielfalt und scheuen sich nicht davor\,\nneue Wege zu gehen. Dies wird durch die Spielfreude der am Festival beteiligten MusikerInnen\nvermittelt. Experimentierfreudigkeit und Neugierde sind eine der Triebfedern der jungen\nMusikerInnen dieser sechs Ensembles. Dabei entsteht spannende\, frische Musik\, die von einem\nvöllig undogmatischen Umgang mit dem Begriff Jazz geprägt ist.\n„hoerthoert“ und „Listen Closely“\n„hoerthoert – Verein für Zuhörkultur für Jazz und improvisierte Musik“ wurde Anfang 2012 in\nWien von Musikern rund um das Label „Listen Closely“ gegründet. Er soll Interpreten und\nKomponisten aus den Bereichen Jazz\, improvisierter Musik und angrenzenden Musikrichtungen\neine Plattform bieten und diese Musik-Stilistiken einem breiten Publikum darbieten.\nhoerthoert – Festival für Zuhörkultur\n12. und 13. Oktober 2018 2018\, Brick5\, Fünfhausgasse 5\, 1150 Wien\nEinlass jeweils ab 19:00h\, Beginn 19:30h\nhoerthoert.at \n
URL:https://www.strawanzerin.at/termin/hoerthoert-festival-fuer-zuhoerkultur-2018/2018-10-12/
CATEGORIES:Deutsch,Eintrittspreis,Englisch,Fest,Kunst/Kultur,Mehrsprachig,Musik,Treffen,Wien
ATTACH;FMTTYPE=image/jpeg:https://www.strawanzerin.at/wp-content/uploads/2018/09/Kindergarten-Foto-Abgrund-1920x1260credit.jpg
ORGANIZER;CN="Verein%20hoerthoert%20f%C3%BCr%20Zuh%C3%B6rkultur":MAILTO:promo@hoerthoert.at
END:VEVENT
END:VCALENDAR