BEGIN:VCALENDAR
VERSION:2.0
PRODID:-//STRAWANZERIN - ECPv4.9.5//NONSGML v1.0//EN
CALSCALE:GREGORIAN
METHOD:PUBLISH
X-WR-CALNAME:STRAWANZERIN
X-ORIGINAL-URL:https://www.strawanzerin.at
X-WR-CALDESC:Veranstaltungen im STRAWANZERIN
BEGIN:VTIMEZONE
TZID:"Europe/Vienna"
BEGIN:DAYLIGHT
TZOFFSETFROM:+0100
TZOFFSETTO:+0200
TZNAME:CEST
DTSTART:20190331T010000
END:DAYLIGHT
BEGIN:STANDARD
TZOFFSETFROM:+0200
TZOFFSETTO:+0100
TZNAME:CET
DTSTART:20191027T010000
END:STANDARD
END:VTIMEZONE
BEGIN:VEVENT
DTSTART;TZID="Europe/Vienna":20190921T190000
DTEND;TZID="Europe/Vienna":20191027T190000
DTSTAMP:20260422T024054
CREATED:20190824T155810Z
LAST-MODIFIED:20190903T165812Z
UID:66596-1569092400-1572202800@www.strawanzerin.at
SUMMARY:Holger Musiol
DESCRIPTION:“Das Fließen\, Ruhen und Verdunsten des Wassers\, Strukturen von Steinen und Pflanzen\, reife Farben des Himmels\, der Erde und der Elemente\, Lichtstimmungen des Übergangs von Tag und Nacht\, Innen und Außen\, Erscheinen und Vergehen bestimmen die atmosphärischen Bilder von Holger Musiol. Sie führen uns in eine Bildsprache zwischen Abstraktion und Natur-Erinnerung\, Verdichtung und Auflösung\, Offenheit und Grenze\, Klarheit und Romantik.”                                 – Manfred Makra\, Künstler und Kurator \nZur Ausstellung spricht: Manfred Makra\, Künstler und Kurator \n
URL:https://www.strawanzerin.at/termin/holger-musiol/
LOCATION:Raum für Kunst im Lindenhof\, Oberndorf 7\, Raabs an der Thaya\, Niederösterreich\, 3820\, Österreich
CATEGORIES:Ausstellung,Kunst/Kultur
ATTACH;FMTTYPE=image/jpeg:https://www.strawanzerin.at/wp-content/uploads/2019/08/HolgerMusiol_Plakat_IMG_4785.jpg
ORGANIZER;CN="Galerien%20Thayaland":MAILTO:franzpart9@gmail.com
GEO:48.8481778;15.4859873
X-APPLE-STRUCTURED-LOCATION;VALUE=URI;X-ADDRESS=Raum für Kunst im Lindenhof Oberndorf 7 Raabs an der Thaya Niederösterreich 3820 Österreich;X-APPLE-RADIUS=500;X-TITLE=Oberndorf 7:geo:15.4859873,48.8481778
END:VEVENT
END:VCALENDAR