BEGIN:VCALENDAR
VERSION:2.0
PRODID:-//STRAWANZERIN - ECPv4.9.5//NONSGML v1.0//EN
CALSCALE:GREGORIAN
METHOD:PUBLISH
X-WR-CALNAME:STRAWANZERIN
X-ORIGINAL-URL:https://www.strawanzerin.at
X-WR-CALDESC:Veranstaltungen im STRAWANZERIN
BEGIN:VTIMEZONE
TZID:"Europe/Vienna"
BEGIN:DAYLIGHT
TZOFFSETFROM:+0100
TZOFFSETTO:+0200
TZNAME:CEST
DTSTART:20230326T010000
END:DAYLIGHT
BEGIN:STANDARD
TZOFFSETFROM:+0200
TZOFFSETTO:+0100
TZNAME:CET
DTSTART:20231029T010000
END:STANDARD
END:VTIMEZONE
BEGIN:VEVENT
DTSTART;TZID="Europe/Vienna":20230920T190000
DTEND;TZID="Europe/Vienna":20230920T220000
DTSTAMP:20260422T150346
CREATED:20230831T101846Z
LAST-MODIFIED:20230831T101846Z
UID:93187-1695236400-1695247200@www.strawanzerin.at
SUMMARY:Hollein Calling
DESCRIPTION:Eröffnung der Ausstellung (21.09.2023 – 12.02.2024\, täglich 10:00–19:00) \nArchitektonische Dialoge\nDie Ausstellung geht dem Phänomen Hollein aus heutiger Sicht nach. Im Dialog mit Positionen einer jüngeren Architekturgeneration wird eine Neubewertung gestartet\, die das Werk Holleins in den aktuellen Diskurs holt. \nHans Hollein\, einziger österreichischer Pritzker-Preisträger und in den 1960er Jahren selbst proklamierter Avantgardist\, war Zeit seines Lebens ein akribischer Kurator seines eigenen Werkes. Gleichzeitig wurde seine Arbeit in der Rezeption oft von seiner Persönlichkeit überstrahlt. Nun\, knapp ein Jahrzehnt nach seinem Tod im Jahr 2014\, wird dieses Werk mit zeitlichem Abstand neu betrachtet. „Hollein Calling“ eröffnet für die Besucher*innen eine kaleidoskopische Erfahrung mit vielfältigen\, oft überraschenden Blickwinkeln auf scheinbar bekannte Arbeiten\, von Holleins kleinen Architekturen wie Retti und Schullin\, über ausgewählte Ausstellungsprojekte bis zu Schulbau und Museen. In der Ausstellung treffen wegweisende Projekte von Hans Hollein\, auf aktuelle Projekte von 15 europäischen Architekturbüros\, die heute mit ihrer Arbeit Diskurse prägen. \nFoto: Hans Hollein Kerzengeschäft Retti\, Kohlmarkt 8-10\, 1010 Wien\, 1964-1965\, Arbeitsmodell.\n© Archiv Hans Hollein\, Az W und MAK\, Wien \n
URL:https://www.strawanzerin.at/termin/hollein-calling/
LOCATION:Architekturzentrum Wien\, Museumsplatz 1\, 1070 Wien\, 1070\, Österreich
ATTACH;FMTTYPE=image/jpeg:https://www.strawanzerin.at/wp-content/uploads/2023/08/klein_H02__Hollein_Retti_HN_006_001_M_img_05.jpg
GEO:48.2026499;16.3591421
X-APPLE-STRUCTURED-LOCATION;VALUE=URI;X-ADDRESS=Architekturzentrum Wien Museumsplatz 1 1070 Wien 1070 Österreich;X-APPLE-RADIUS=500;X-TITLE=Museumsplatz 1:geo:16.3591421,48.2026499
END:VEVENT
END:VCALENDAR