BEGIN:VCALENDAR
VERSION:2.0
PRODID:-//STRAWANZERIN - ECPv4.9.5//NONSGML v1.0//EN
CALSCALE:GREGORIAN
METHOD:PUBLISH
X-WR-CALNAME:STRAWANZERIN
X-ORIGINAL-URL:https://www.strawanzerin.at
X-WR-CALDESC:Veranstaltungen im STRAWANZERIN
BEGIN:VTIMEZONE
TZID:"Europe/Vienna"
BEGIN:DAYLIGHT
TZOFFSETFROM:+0100
TZOFFSETTO:+0200
TZNAME:CEST
DTSTART:20220327T010000
END:DAYLIGHT
BEGIN:STANDARD
TZOFFSETFROM:+0200
TZOFFSETTO:+0100
TZNAME:CET
DTSTART:20221030T010000
END:STANDARD
END:VTIMEZONE
BEGIN:VEVENT
DTSTART;TZID="Europe/Vienna":20220923T193000
DTEND;TZID="Europe/Vienna":20220923T230000
DTSTAMP:20260424T202858
CREATED:20220329T095920Z
LAST-MODIFIED:20220329T121108Z
UID:83585-1663961400-1663974000@www.strawanzerin.at
SUMMARY:Hollywood in Vienna
DESCRIPTION:Der diesjährige Ehrengast Alan Menken ist einer der erfolgreichsten Filmkomponisten Hollywoods und eine wahre Disney-Legende. Er schrieb Melodien\, die weltweit bekannt sind und Generationen verzaubern. \n1989 feierte Disney mit ARIELLE\, DIE MEERJUNGFRAU seine glorreiche Rückkehr zum großen Filmmärchen-Musical. Wichtiger denn je für die animierten Meisterwerke war die Musik\, die den animierten Märchenwelten die Seele einhauchte. Ein Name prägte die Filme der sogenannten \,\,Goldenen 90er“ dabei wie kein anderer: Alan Menken. Neben ARIELLE\, DIE MEERJUNGFRAU schrieb der Komponist den Soundtrack und Songs für die modernen Disney-Klassiker DIE SCHÖNE UND DAS BIEST\, ALADDIN\, POCAHONTAS\, DER GLÖCKNER VON NOTRE DAME und viele mehr – Disneys Traumwelten erhielten durch ihn ihren unverkennbaren Klang. Dabei beherrscht Menken romantische Balladen wie »Beauty and the Beast« aus DIE SCHÖNE UND DAS BIEST oder augenzwinkernde Feel-good-Songs wie »Under the Sea« aus ARIELLE genauso meisterhaft wie den großen orchestralen Musicalsound. \nViele seiner Disney-Scores brachte der ausgebildete Broadway-Komponist später auch höchst erfolgreich auf die Musical-Bühne. Der Song »A Whole New World« aus ALADDIN gehört zu den erfolgreichsten Songs der Filmgeschichte und führte 23 Wochen die Billboard-Charts in den USA an. Zudem kehrten sowohl ALADDIN als auch zuvor schon DIE SCHÖNE UND DAS BIEST als opulente Live-Action-Filme mit zusätzlich komponierten Songs auf die Leinwand zurück. Derzeit arbeitet Menken an einer Live-Action-Verfilmung von ARIELLE\, das bald in die Kinos kommen soll.\nRekorde verzeichnet Alan Menken auch in Sachen Preise und Auszeichnungen: Er ist der einzige lebende Kreative in Hollywood\, der mit insgesamt acht Oscars ausgezeichnet wurde. Zudem erhielt er 11 Grammys und sieben Golden Globes\, einen Tony sowie viele weitere wichtige Preise.\nDieses Jahr wird zu seinen Auszeichnungen eine neue hinzukommen: Im Rahmen der Filmmusik-Gala HOLLYWOOD IN VIENNA wird Alan Menken mit dem »Max Steiner Film Music Achievement Award 2020« ausgezeichnet. \nMit dem Ehrengast und vielen hochkarätigen Interpreten wird die Magie des Disney-Kosmos im festlichen Rahmen des Wiener Konzerthauses gefeiert! Am Pult des ORF Radio-Symphonieorchesters Wien steht mit Emmy-Preisträger Michael Kosarin der langjährige Music Director von Alan Menken. \n
URL:https://www.strawanzerin.at/termin/hollywood-in-vienna/
LOCATION:Wiener Konzerthaus\, Lothringerstraße 20\, Wien\, Wien\, 1030\, Österreich
CATEGORIES:Musik
ATTACH;FMTTYPE=image/jpeg:https://www.strawanzerin.at/wp-content/uploads/2022/03/Unknown.jpeg
ORGANIZER;CN="Hollywood%20in%20Vienna":MAILTO:ticket@konzerthaus.at
GEO:48.2007746;16.3772233
X-APPLE-STRUCTURED-LOCATION;VALUE=URI;X-ADDRESS=Wiener Konzerthaus Lothringerstraße 20 Wien Wien 1030 Österreich;X-APPLE-RADIUS=500;X-TITLE=Lothringerstraße 20:geo:16.3772233,48.2007746
END:VEVENT
END:VCALENDAR