BEGIN:VCALENDAR
VERSION:2.0
PRODID:-//STRAWANZERIN - ECPv4.9.5//NONSGML v1.0//EN
CALSCALE:GREGORIAN
METHOD:PUBLISH
X-WR-CALNAME:STRAWANZERIN
X-ORIGINAL-URL:https://www.strawanzerin.at
X-WR-CALDESC:Veranstaltungen im STRAWANZERIN
BEGIN:VTIMEZONE
TZID:"Europe/Helsinki"
BEGIN:DAYLIGHT
TZOFFSETFROM:+0200
TZOFFSETTO:+0300
TZNAME:EEST
DTSTART:20140330T010000
END:DAYLIGHT
BEGIN:STANDARD
TZOFFSETFROM:+0300
TZOFFSETTO:+0200
TZNAME:EET
DTSTART:20141026T010000
END:STANDARD
END:VTIMEZONE
BEGIN:VEVENT
DTSTART;VALUE=DATE:20140412
DTEND;VALUE=DATE:20140602
DTSTAMP:20260420T083054
CREATED:20140512T123428Z
LAST-MODIFIED:20140512T125640Z
UID:952-1397275200-1401595199@www.strawanzerin.at
SUMMARY:Hommage an Ginger und Fred
DESCRIPTION:Eine Hommage in Bildern an Fred Astaire\, den „Meister des Parketts“! Am 12. April wird in der Tanzschule Roman E. Svabek die Ausstellung „Hommage an Ginger und Fred“ eröffnet. Sie ist Fred Astaire\, dem wohl berühmtesten Tänzer der Filmgeschichte\, anlässlich seines 115. Geburtstages und Ginger Rogers\, seiner Traum-Partnerin auf der Leinwand sowie dem Stepptanz gewidmet. Die Künstlerinnen Ina Alber und Elisabeth Birngruber und der Künstler Gazmend Freitag empfinden in ihren Werken den Glamour dieses Tanzpaares und das Feeling der Hollywood-Ära der 30er und 40er Jahre nach. Der Schriftsteller Frederic Morton\, der in seinem Buch „Durch die Welt nach Hause“ über sein Idol Fred Astaire geschrieben hat\, ist als Ehrengast eingeladen. http://www.galeriestudio38.at/ARTandDANCE \n
URL:https://www.strawanzerin.at/termin/hommage-an-ginger-und-fred/
LOCATION:Tanzschule Roman E. Svabek\, Judenplatz 5\, Wien\, Wien\, 1010\, Österreich
CATEGORIES:Deutsch,Gratis,Tanz,Wien
GEO:48.2114113;16.3695944
X-APPLE-STRUCTURED-LOCATION;VALUE=URI;X-ADDRESS=Tanzschule Roman E. Svabek Judenplatz 5 Wien Wien 1010 Österreich;X-APPLE-RADIUS=500;X-TITLE=Judenplatz 5:geo:16.3695944,48.2114113
END:VEVENT
END:VCALENDAR