BEGIN:VCALENDAR
VERSION:2.0
PRODID:-//STRAWANZERIN - ECPv4.9.5//NONSGML v1.0//EN
CALSCALE:GREGORIAN
METHOD:PUBLISH
X-WR-CALNAME:STRAWANZERIN
X-ORIGINAL-URL:https://www.strawanzerin.at
X-WR-CALDESC:Veranstaltungen im STRAWANZERIN
BEGIN:VTIMEZONE
TZID:"Europe/Vienna"
BEGIN:DAYLIGHT
TZOFFSETFROM:+0100
TZOFFSETTO:+0200
TZNAME:CEST
DTSTART:20170326T010000
END:DAYLIGHT
BEGIN:STANDARD
TZOFFSETFROM:+0200
TZOFFSETTO:+0100
TZNAME:CET
DTSTART:20171029T010000
END:STANDARD
END:VTIMEZONE
BEGIN:VEVENT
DTSTART;TZID="Europe/Vienna":20171017T190000
DTEND;TZID="Europe/Vienna":20171017T210000
DTSTAMP:20260420T083108
CREATED:20170925T120559Z
LAST-MODIFIED:20170927T134025Z
UID:47276-1508266800-1508274000@www.strawanzerin.at
SUMMARY:Hommage an Nikos Kazantzakis
DESCRIPTION:Er war Schriftsteller\, Journalist\, Politiker\, Musiker\, Dichter\, Philosoph und einer der bedeutendsten griechischen Autoren des 20. Jahrhunderts. Klassiker wie »Zorba\, the Greek« oder »Die letzte Versuchung« stammen aus seiner Feder. In Wien erhielt der Universalist Nikos Kazantzakis (1883-1957) den Internationalen Friedenspreis. Anlässlich seines 60. Todestages präsentiert das Filmarchiv Austria von 16. bis 18. Oktober 2017 eine von Christos Marantos kuratierte Hommage mit Filmvorführungen\, Vorträgen\, Diskussionen und dem Konzert »Das Kazantzakis-Projekt«. \nDie Vorträge und Diskussionen sind bei freiem Eintritt zugänglich. \nDas Programm erfolgt in Kooperation mit der Österreichischen Akademie der Wissenschaften\, den Kazantzakis Publications\, dem Kazantzakis Museum Myrtia\, The International Society of Friends of Nikos Kazantzakis (ISFNK)\, der griechischen Botschaft in Wien und der Metropolis von Austria. \nKonzert:\nDienstag\, 17. Oktober 2017\, 19 Uhr \nBild: Nikos Kazantzakis (1883–1957)\, Foto/© Kazantzakis Museum Myrtia Kreta \n
URL:https://www.strawanzerin.at/termin/hommage-an-nikos-kazantzakis/
CATEGORIES:ab 7,Musik,Wien
ATTACH;FMTTYPE=image/jpeg:https://www.strawanzerin.at/wp-content/uploads/2017/09/00107.jpg
END:VEVENT
END:VCALENDAR