BEGIN:VCALENDAR
VERSION:2.0
PRODID:-//STRAWANZERIN - ECPv4.9.5//NONSGML v1.0//EN
CALSCALE:GREGORIAN
METHOD:PUBLISH
X-WR-CALNAME:STRAWANZERIN
X-ORIGINAL-URL:https://www.strawanzerin.at
X-WR-CALDESC:Veranstaltungen im STRAWANZERIN
BEGIN:VTIMEZONE
TZID:"Europe/Vienna"
BEGIN:DAYLIGHT
TZOFFSETFROM:+0100
TZOFFSETTO:+0200
TZNAME:CEST
DTSTART:20220327T010000
END:DAYLIGHT
BEGIN:STANDARD
TZOFFSETFROM:+0200
TZOFFSETTO:+0100
TZNAME:CET
DTSTART:20221030T010000
END:STANDARD
END:VTIMEZONE
BEGIN:VEVENT
DTSTART;TZID="Europe/Vienna":20220217T173000
DTEND;TZID="Europe/Vienna":20220217T183000
DTSTAMP:20260420T143707
CREATED:20220125T125914Z
LAST-MODIFIED:20220202T121230Z
UID:82647-1645119000-1645122600@www.strawanzerin.at
SUMMARY:Hot Questions – Cold Storage
DESCRIPTION:Schwerpunktführung \nGlobalisierung – Wer macht die Stadt?\nDie neue Schausammlung des Architekturzentrum Wien gibt Einblicke in die bedeutendste und umfassendste Sammlung zur österreichischen Architektur des 20. und 21. Jahrhunderts. Im Zentrum steht die Befragung von Schlüsselobjekten\, darunter prominente und weniger bekannte. Sieben „heiße Fragen“ erwecken den „stillen Speicher“ zum Leben.\nEintrittspreise \nFührung € 2\,40 zuzügl. Eintritt (€ 9 / ermäßigt € 7) \nmedium- und large-Partner*innen gratis \nAnmeldung erforderlich: anmeldung@azw.at\nDie Führung findet entlang der aktuellen Covid-19 Maßnahmen statt.\nMit Kuratorin Monika Platzer. \n
URL:https://www.strawanzerin.at/termin/hot-questions-cold-storage/
LOCATION:Achitekturzentrum Wien\, Museumsplatz 1\, 1070 Wien\, 1070\, Österreich
CATEGORIES:Ausstellung
ATTACH;FMTTYPE=image/jpeg:https://www.strawanzerin.at/wp-content/uploads/2022/01/klein_72011_BaumTuerme_PRogrammheft.jpg
END:VEVENT
END:VCALENDAR