BEGIN:VCALENDAR
VERSION:2.0
PRODID:-//STRAWANZERIN - ECPv4.9.5//NONSGML v1.0//EN
CALSCALE:GREGORIAN
METHOD:PUBLISH
X-WR-CALNAME:STRAWANZERIN
X-ORIGINAL-URL:https://www.strawanzerin.at
X-WR-CALDESC:Veranstaltungen im STRAWANZERIN
BEGIN:VTIMEZONE
TZID:"Europe/Vienna"
BEGIN:DAYLIGHT
TZOFFSETFROM:+0100
TZOFFSETTO:+0200
TZNAME:CEST
DTSTART:20190331T010000
END:DAYLIGHT
BEGIN:STANDARD
TZOFFSETFROM:+0200
TZOFFSETTO:+0100
TZNAME:CET
DTSTART:20191027T010000
END:STANDARD
END:VTIMEZONE
BEGIN:VEVENT
DTSTART;TZID="Europe/Vienna":20190406T201500
DTEND;TZID="Europe/Vienna":20190406T220000
DTSTAMP:20260422T140759
CREATED:20190322T200744Z
LAST-MODIFIED:20190322T200802Z
UID:62957-1554581700-1554588000@www.strawanzerin.at
SUMMARY:»Hotel Mama« verwandelt Komödie am Kai in Tollhaus
DESCRIPTION:»Wenn sie klein sind\, dann sind sie so süß\, dass man sie am liebsten auffressen würde. Wenn sie groß sind\, bedauert man\, dass man es nicht getan hat.« Die ach so liebe Beziehung zwischen Kindern und ihren Eltern entpuppt sich in der turbulenten Komödie von Lawrence Roman als Kraftprobe für die Lachmuskeln. Dabei verwandeln drei erwachsene Söhne die elterliche Idylle in ein regelrechtes Irrenhaus. Unter der Regie von Sissy Boran und Andrea Eckstein entfachen Lara Neversal\, Anke Zisak\, René Huget\, Felix Millauer\, Oliver Roitinger und Ralph Saml ein heiteres Chaos zur Freude des Theaterpublikums. \nVorstellungen:\n6. April bis 25. Mai 2019\, DI bis SA 20.15 Uhr (Premiere: Dienstag\, 9. April\, 20.15 Uhr) \nInfo:\nTel. 01 533 24 34 \nBild: Lara Neversal\, Anke Zisak\, René Huget\, Felix Millauer\, Oliver Roitinger und Ralph Saml in der Komödie »Hotel Mama«\, Foto/© Komödie am Kai \n
URL:https://www.strawanzerin.at/termin/hotel-mama-verwandelt-komoedie-am-kai-in-tollhaus/2019-04-06/
LOCATION:Komödie am Kai\, Franz-Josefs-Kai 29\, Wien\, Wien\, 1010\, Österreich
CATEGORIES:ab 7,Theater/Kabarett,Wien
ATTACH;FMTTYPE=image/jpeg:https://www.strawanzerin.at/wp-content/uploads/2019/03/hotel-mama.jpg
GEO:48.2121522;16.3749182
X-APPLE-STRUCTURED-LOCATION;VALUE=URI;X-ADDRESS=Komödie am Kai Franz-Josefs-Kai 29 Wien Wien 1010 Österreich;X-APPLE-RADIUS=500;X-TITLE=Franz-Josefs-Kai 29:geo:16.3749182,48.2121522
END:VEVENT
END:VCALENDAR