BEGIN:VCALENDAR
VERSION:2.0
PRODID:-//STRAWANZERIN - ECPv4.9.5//NONSGML v1.0//EN
CALSCALE:GREGORIAN
METHOD:PUBLISH
X-WR-CALNAME:STRAWANZERIN
X-ORIGINAL-URL:https://www.strawanzerin.at
X-WR-CALDESC:Veranstaltungen im STRAWANZERIN
BEGIN:VTIMEZONE
TZID:"Europe/Vienna"
BEGIN:DAYLIGHT
TZOFFSETFROM:+0100
TZOFFSETTO:+0200
TZNAME:CEST
DTSTART:20230326T010000
END:DAYLIGHT
BEGIN:STANDARD
TZOFFSETFROM:+0200
TZOFFSETTO:+0100
TZNAME:CET
DTSTART:20231029T010000
END:STANDARD
END:VTIMEZONE
BEGIN:VEVENT
DTSTART;VALUE=DATE:20230609
DTEND;VALUE=DATE:20230613
DTSTAMP:20260424T014106
CREATED:20230420T101200Z
LAST-MODIFIED:20230521T184446Z
UID:90949-1686283200-1686542399@www.strawanzerin.at
SUMMARY:HULA 'ONI E EUROPA 3. Hula Tanzfestival und 2. Hula Tanzwettbewerb
DESCRIPTION:Aloha! \nWir laden Sie herzlich ein\, mit uns in die paradiesische Welt der\nhawaiianischen Inseln\, mit Ihren herrlichen Gegenden von den Bergen\nbis zum tiefblauen Meer\, einzutauchen. \nErleben Sie den Zauber des Hulatanzes\, mit den wunderbaren\nGeschichten aus dem fernen Hawai‘i\, die durch Tänzerinnen und Tänzer\naus ganz Europa erzählt werden. \nEin kleiner Auszug aus dem Programm des Festivals: \nSamstag\, 10. Juni 2023 – Theater Akzent/Wien ab 14:00 Uhr\n2. Internationaler Wettbewerb „Hula ´Oni E“ mit Tanzgruppen aus dem\neuropäischen Raum! Bekannte Preisrichter aus Hawai‘i küren abends die\nEuropameisterInnen in den verschiedenen Tanzkategorien.\nDazwischen zeigen weitere Tänzerinnen und Tänzer aus Europa und auch aus Seattle/USA\nihr Talent beim „Hō´ike“ (hō´ike = Vorführung/Show). \nSonntag\, 11. Juni 2023 – Theater Vindobona/Wien\nein Erlebnis der besonderen Art – eine Dinnershow\nmit Darbietungen unserer Gäste aus Hawai’i\, Tänzerinnen und\nTänzer der Hālau Hula `O Hokulani und aus ganz Europa\, welche die Leidenschaft zum Hulatanz\nteilen. \nFür alle\, die schon mit dem Virus „Hula“ und „Hawai’i“ infiziert sind\, gibt es\nam 9. und 11. Juni Workshops! Neben Hula\, unterrichtet von unseren Hawaiianischen\nLehrerinnen und Lehrern (Kumu Hula) wird es auch eine Einführung in die Hawaiianische Sprache\, einen Ukulele Workshop\nund Oli (traditioneller Sprechgesang) geben. \nNeugierig geworden?\nTeilen Sie mit uns die Freude und Begeisterung an der hawaiianischen Kultur!\nA hui hou\, wir freuen uns auf Ihr Kommen!\nAlle weiteren Details zu diesem Wochenende unter hulafestival.eu \n
URL:https://www.strawanzerin.at/termin/hula-oni-e-europa-3-hula-tanzfestival-und-2-hula-tanzwettbewerb/
LOCATION:Primorama\, Sissy-Löwinger-Weg 7\, Wien\, 1100\, Österreich
CATEGORIES:Fest,Tanz,Wien,Workshop
ATTACH;FMTTYPE=image/jpeg:https://www.strawanzerin.at/wp-content/uploads/2023/04/Foto-Medieninformation2023_300dpi-scaled.jpg
ORGANIZER;CN="Hula%20%27O%20Hawai%27i%20-%20Kulturverein%20Hawai%27i%20in%20%C3%96sterreich":MAILTO:info@hula-austria.at
END:VEVENT
END:VCALENDAR