BEGIN:VCALENDAR
VERSION:2.0
PRODID:-//STRAWANZERIN - ECPv4.9.5//NONSGML v1.0//EN
CALSCALE:GREGORIAN
METHOD:PUBLISH
X-WR-CALNAME:STRAWANZERIN
X-ORIGINAL-URL:https://www.strawanzerin.at
X-WR-CALDESC:Veranstaltungen im STRAWANZERIN
BEGIN:VTIMEZONE
TZID:"Europe/Vienna"
BEGIN:DAYLIGHT
TZOFFSETFROM:+0100
TZOFFSETTO:+0200
TZNAME:CEST
DTSTART:20230326T010000
END:DAYLIGHT
BEGIN:STANDARD
TZOFFSETFROM:+0200
TZOFFSETTO:+0100
TZNAME:CET
DTSTART:20231029T010000
END:STANDARD
END:VTIMEZONE
BEGIN:VEVENT
DTSTART;TZID="Europe/Vienna":20230613T190000
DTEND;TZID="Europe/Vienna":20230613T210000
DTSTAMP:20260421T031215
CREATED:20230606T133400Z
LAST-MODIFIED:20230606T133400Z
UID:92037-1686682800-1686690000@www.strawanzerin.at
SUMMARY:HUMAN RIGHTS TALK „Soziale Rechte: Müssen sie in die Verfassung?“
DESCRIPTION:Soziale (Menschen-)Rechte umfassen unter anderem die Rechte auf Arbeit\, Gesundheit und Wohnen. Obwohl sie in der Europäischen Sozialcharta völkerrechtlich verankert sind\, genießen sie bis heute nicht denselben Stellenwert wie bürgerliche und politische Rechte. Nur wenige europäische Länder haben die Charta bisher vollständig ratifiziert. Auch Österreich hat rund ein Viertel der enthaltenen Bestimmungen noch nicht unterzeichnet. Was aber sind soziale Rechte überhaupt? Welche Rolle kommt ihnen in Zeiten weltweiter Krisen zu? Und warum sind sie in Österreich\, anders als in vielen anderen Staaten\, noch nicht in die Verfassung aufgenommen worden? Ein hochkarätiges Panel diskutiert die Bedeutung der sozialen Rechte. \nBegrüßung\nTeresa Hatzl\, Leitung Advocacy & Research\, Amnesty International Österreich \nPodiumsdiskussion\nBernhard Achitz\, Volksanwalt für Soziales\, Pflege und Gesundheit\nKarin Lukas\, ehem. Präsidentin\, Europäischer Ausschuss für Soziale Rechte; Professorin mit Schwerpunkt Menschenrechte\, Legal Studies Department der Central European University\nWolfgang Mazal\, Professor für Arbeits- und Sozialrecht\, Universität Wien\nBrigitte Ohms\, Leiterin Referat „Internationaler Menschenrechtsschutz\, EMRK-Beschwerden und sonstige Angelegenheiten“; stv. Leiterin Abteilung „Europäisches und internationales Recht\, Menschenrechtsschutz“\, Bundeskanzleramt der Republik Österreich\nMartin Schenk\, stv. Direktor\, Diakonie Österreich; Mitbegründer\, Armutskonferenz \nModeration\nEric Frey\, Leitender Redakteur\, Der Standard \n
URL:https://www.strawanzerin.at/termin/human-rights-talk-soziale-rechte-muessen-sie-in-die-verfassung/
LOCATION:1040\, Diplomatische Akademie\, Favoritenstraße 15a\, Wien\, 1040\, Österreich
CATEGORIES:Deutsch,Gratis,Vortrag/Symposium,Wien
ATTACH;FMTTYPE=image/png:https://www.strawanzerin.at/wp-content/uploads/2023/06/HUMAN-RIGHTS-TALK-Soziale-Rechte.png
ORGANIZER;CN="Ludwig%20Boltzmann%20Institut%20f%C3%BCr%20Menschenrechte%20%28BIM%29":MAILTO:bim.office@univie.ac.at
END:VEVENT
END:VCALENDAR