BEGIN:VCALENDAR
VERSION:2.0
PRODID:-//STRAWANZERIN - ECPv4.9.5//NONSGML v1.0//EN
CALSCALE:GREGORIAN
METHOD:PUBLISH
X-WR-CALNAME:STRAWANZERIN
X-ORIGINAL-URL:https://www.strawanzerin.at
X-WR-CALDESC:Veranstaltungen im STRAWANZERIN
BEGIN:VTIMEZONE
TZID:"Europe/Vienna"
BEGIN:DAYLIGHT
TZOFFSETFROM:+0100
TZOFFSETTO:+0200
TZNAME:CEST
DTSTART:20240331T010000
END:DAYLIGHT
BEGIN:STANDARD
TZOFFSETFROM:+0200
TZOFFSETTO:+0100
TZNAME:CET
DTSTART:20241027T010000
END:STANDARD
END:VTIMEZONE
BEGIN:VEVENT
DTSTART;TZID="Europe/Vienna":20241012T163000
DTEND;TZID="Europe/Vienna":20241012T200000
DTSTAMP:20260423T174415
CREATED:20240916T184109Z
LAST-MODIFIED:20240916T184109Z
UID:103424-1728750600-1728763200@www.strawanzerin.at
SUMMARY:Hunger.Macht.Profite. - Queer Gardening
DESCRIPTION:Foto: Queer Gardening © Ella v.d.Haide\n13. Filmtage zum Recht auf Nahrung\nHunger.Macht.Profite. \nQueer Gardening\nvon Ella von der Haide / Deutschland 2022\, 80 Min\, engl. OF deutsch untertitelt\nIn „Queer Gardening“ besucht die Regisseurin Gärten in den USA und Kanada\, deren LGBTQIA* Gärtner*innen ihre einzigartigen Erfahrungen mit queerer Gartengestaltung mit uns teilen und darüber reflektieren\, wie sie die bestehenden Natur-Kultur-Verhältnisse interpretieren. Dabei werden verschiedene Projekte vorgestellt – von einem urbanen Gemeinschaftsgarten in New York City bis hin zu einem Waldgarten eines Landkollektivs in Tennesse.\nDer Film illustriert eindrucksvoll\, wie queer-feministische Perspektiven eine „queer ethic of care“ entstehen lassen und so eine tiefe Verbindung zur Umwelt und Gemeinschaft schaffen.\nLuca Benz (Bio-Gemüsebäuer*in)\, Irene Fink (ELAN Emanzipatorisches Landwirtschaftsnetzwerk) und Lisa Hermanns (HOSI Wien) im Filmgespräch mit Lisa Rienesl (ÖBV – Via Campesina Austria) \nInformation zu den Filmtagen Hunger.Macht.Profite.:\nZum 13. Mal bringen wir in ganz Österreich globale Landwirtschaft und Ernährung auf die Kinoleinwände. Die Filme zeigen Ursachen von Hunger\, die Veränderung der kleinbäuerlichen Landwirtschaft und den fortschreitenden Raubbau an natürlichen Ressourcen auf. Gleichzeitig lenken sie den Blick auf jene Menschen\, die sich gegen das Agro- Business wehren und das Menschenrecht auf Nahrung einfordern. \nMit 5 Filmen tourt das Team von FIAN Österreich\, ÖBV-Via Campesina\, normale.at und attac Österreich. Nach den Filmvorführungen erwarten euch auch dieses Jahr wieder spannende Filmgespräche mit Expert*innen und Aktivist*innen aus verschiedensten Bereichen\, um gemeinsam die Filme nach zu besprechen\, Lösungen zu finden und das Ernährungs- und Landwirtschaftssystem positiv zu verändern. \nWien\nTop Kino (Rahlgasse 1\, 1060 Wien)\nSa\, 12.10.2024\, 16:30 – Queer Gardening \nKarten:\nonline über www.topkino.at\noder telefonisch 01 585 5888 (Mo bis Fr 10:00-16:00 Uhr)\nBei Interesse an einer Schulvorstellung wenden Sie sich bitte an junge@normale.at \nPreise:\n€ 9\,50 Normalpreis\n€ 7\,50 Ermäßigung für Jugendliche bis 18 Jahre\, Studierende\, Pensionist*innen\, AK-Mitglieder\, Mindestsicherungsbezieher*innen\, Standard-Abovorteil\nReservierte Karten sind bis 30 Minuten vor Vorstellungsbeginn abzuholen! \n
URL:https://www.strawanzerin.at/termin/hunger-macht-profite-queer-gardening-2/
LOCATION:TOP KINO\, Rahlgasse 1 (Ecke Theobaldgasse) \, Wien\, 1060\, Österreich
CATEGORIES:Film,Kunst/Kultur,Soziale Kämpfe
ATTACH;FMTTYPE=image/jpeg:https://www.strawanzerin.at/wp-content/uploads/2024/09/QueerGardening1_c_Ella-v.d.Haide_.jpg
ORGANIZER;CN="FIAN%20%C3%96sterreich":MAILTO:linnea.richter@fian.at
GEO:48.2004983;16.3603239
X-APPLE-STRUCTURED-LOCATION;VALUE=URI;X-ADDRESS=TOP KINO Rahlgasse 1 (Ecke Theobaldgasse)  Wien 1060 Österreich;X-APPLE-RADIUS=500;X-TITLE=Rahlgasse 1 (Ecke Theobaldgasse):geo:16.3603239,48.2004983
END:VEVENT
END:VCALENDAR