BEGIN:VCALENDAR
VERSION:2.0
PRODID:-//STRAWANZERIN - ECPv4.9.5//NONSGML v1.0//EN
CALSCALE:GREGORIAN
METHOD:PUBLISH
X-WR-CALNAME:STRAWANZERIN
X-ORIGINAL-URL:https://www.strawanzerin.at
X-WR-CALDESC:Veranstaltungen im STRAWANZERIN
BEGIN:VTIMEZONE
TZID:"Europe/Vienna"
BEGIN:DAYLIGHT
TZOFFSETFROM:+0100
TZOFFSETTO:+0200
TZNAME:CEST
DTSTART:20220327T010000
END:DAYLIGHT
BEGIN:STANDARD
TZOFFSETFROM:+0200
TZOFFSETTO:+0100
TZNAME:CET
DTSTART:20221030T010000
END:STANDARD
END:VTIMEZONE
BEGIN:VEVENT
DTSTART;TZID="Europe/Vienna":20221022T200000
DTEND;TZID="Europe/Vienna":20221022T213000
DTSTAMP:20260421T180940
CREATED:20221006T095615Z
LAST-MODIFIED:20221006T095615Z
UID:86862-1666468800-1666474200@www.strawanzerin.at
SUMMARY:Hurra\, wir leben noch!
DESCRIPTION:Franz Schiefer und Nicole Gerfertz-Schiefer bringen in dieser „Valentin-Karlstadt-Revue“ beliebte Klassiker von Karl Valentin und Liesl Karlstadt auf die Bühne\, darunter „Semmelknödel“\, „Buchbinder Wanninger“ und „Der Zufall“. Fein verwoben wird dies mit Anekdoten aus dem Leben des genialen Komiker-Duos. Und so ganz nebenbei finden die beiden doch tatsächlich auch an der Pandemie das eine oder andere zum Lachen. Denn: Hurra\, wir leben noch! \nEintritt: VVK: € 18\, AK: € 20\nTickets und Reservierungen unter tickets@hobiraum.at oder 0676/9178460. \n
URL:https://www.strawanzerin.at/termin/hurra-wir-leben-noch/2022-10-22/
LOCATION:HOB i RAUM\, Hanuschgasse 1\, Bad Vöslau\, Niederösterreich\, 2540
CATEGORIES:Theater/Kabarett
ATTACH;FMTTYPE=image/jpeg:https://www.strawanzerin.at/wp-content/uploads/2022/09/Flyer_Hurra_Konter_A6_END_Seite_1.jpg
ORGANIZER;CN="Theatergruppe%20KONTER":MAILTO:info@konter.at
GEO:47.9686941;16.2205195
X-APPLE-STRUCTURED-LOCATION;VALUE=URI;X-ADDRESS=HOB i RAUM Hanuschgasse 1 Bad Vöslau Niederösterreich 2540;X-APPLE-RADIUS=500;X-TITLE=Hanuschgasse 1:geo:16.2205195,47.9686941
END:VEVENT
END:VCALENDAR