BEGIN:VCALENDAR
VERSION:2.0
PRODID:-//STRAWANZERIN - ECPv4.9.5//NONSGML v1.0//EN
CALSCALE:GREGORIAN
METHOD:PUBLISH
X-WR-CALNAME:STRAWANZERIN
X-ORIGINAL-URL:https://www.strawanzerin.at
X-WR-CALDESC:Veranstaltungen im STRAWANZERIN
BEGIN:VTIMEZONE
TZID:"Europe/Vienna"
BEGIN:DAYLIGHT
TZOFFSETFROM:+0100
TZOFFSETTO:+0200
TZNAME:CEST
DTSTART:20180325T010000
END:DAYLIGHT
BEGIN:STANDARD
TZOFFSETFROM:+0200
TZOFFSETTO:+0100
TZNAME:CET
DTSTART:20181028T010000
END:STANDARD
END:VTIMEZONE
BEGIN:VEVENT
DTSTART;TZID="Europe/Vienna":20180523T193000
DTEND;TZID="Europe/Vienna":20180523T213000
DTSTAMP:20260420T174500
CREATED:20180419T151240Z
LAST-MODIFIED:20180425T073403Z
UID:54724-1527103800-1527111000@www.strawanzerin.at
SUMMARY:Hymne an Wien
DESCRIPTION:Harmonia Classica präsentiert großes Frühlings-Orchesterkonzert \nAm Mittwoch\, dem 23. Mai 2018\, um 19.30 Uhr setzen das KünstlerOrchester Wien\, Sopranistin Monika Medek und Tenor Thomas Markus der Donaumetropole im Wiener Ehrbar Saal ein musikalisches Denkmal. Auf dem Programm stehen Werke zeitgenössischer Komponisten harmonischer Musik\, wie etwa die »Hymne an Wien« und die Arie an den Stephansdom »Kathedrale« von Dirigent Alexander Blechinger (Texte von Gerti Ederer und Brigitte Pixner). Ebenso erlebt sein »Flöten-Frühlingswalzer« die Uraufführung. Weiters erklingen Kompositionen von Paola Ariano\, Eberhard Böttcher und anderen. \n  Info & Karten:\nTel.: 01 804 61 68  \nBild: Dirigent und Komponist Alexander Blechinger\nFoto/© Harmonia Classica Records  \n
URL:https://www.strawanzerin.at/termin/hymne-an-wien/
LOCATION:Ehrbar Saal\, Mühlgasse 28-30\, Wien\, Wien\, 1040 \, Österreich
CATEGORIES:ab 7,Kunst/Kultur,Musik,Wien
ATTACH;FMTTYPE=image/jpeg:https://www.strawanzerin.at/wp-content/uploads/2018/04/AlexanderBlechingerDirigentHintergrund-Kopie.jpeg
GEO:48.196889;16.3629043
X-APPLE-STRUCTURED-LOCATION;VALUE=URI;X-ADDRESS=Ehrbar Saal Mühlgasse 28-30 Wien Wien 1040  Österreich;X-APPLE-RADIUS=500;X-TITLE=Mühlgasse 28-30:geo:16.3629043,48.196889
END:VEVENT
END:VCALENDAR