BEGIN:VCALENDAR
VERSION:2.0
PRODID:-//STRAWANZERIN - ECPv4.9.5//NONSGML v1.0//EN
CALSCALE:GREGORIAN
METHOD:PUBLISH
X-WR-CALNAME:STRAWANZERIN
X-ORIGINAL-URL:https://www.strawanzerin.at
X-WR-CALDESC:Veranstaltungen im STRAWANZERIN
BEGIN:VTIMEZONE
TZID:"Europe/Vienna"
BEGIN:DAYLIGHT
TZOFFSETFROM:+0100
TZOFFSETTO:+0200
TZNAME:CEST
DTSTART:20190331T010000
END:DAYLIGHT
BEGIN:STANDARD
TZOFFSETFROM:+0200
TZOFFSETTO:+0100
TZNAME:CET
DTSTART:20191027T010000
END:STANDARD
END:VTIMEZONE
BEGIN:VEVENT
DTSTART;TZID="Europe/Vienna":20190915T190000
DTEND;TZID="Europe/Vienna":20190920T190000
DTSTAMP:20260420T032326
CREATED:20190626T152920Z
LAST-MODIFIED:20190711T164407Z
UID:65946-1568574000-1569006000@www.strawanzerin.at
SUMMARY:"Ich bin ein Faultier“ in der Josefstadt!
DESCRIPTION:Die Galerie Sandpeck Wien 8 zeigt\nBernhard Drexler\n„Ich bin ein Faultier“\nVernissage: Sonntag 15.9.2019 um 19 Uhr Ausstellung: täglich von 14-19 Uhr bis 20.9.2019 Finissage: Freitag 20.9.2019 um 19 Uhr\nmit Livemusik von I’m a Sloth (unplugged)\nin der Florianigasse 75\, Ecke Uhlplatz\nfreier Eintritt!\nmehr www.sandpeck.com \nBernhard Drexler wurde am 1.1.1989 in Wien geboren und zeichnet seit frühester Kindheit. In den Genuss einer künstlerischen Ausbildung kam er nie. Stattdessen begann er 2004 eine Lehre als Bautechnischer Zeichner bei der Stadt Wien und übt diese Tätigkeit seitdem hauptberuflich aus.\n2009 gründete Bernhard als Gitarrist und Sänger die Band „I’m a Sloth“\, welche Namensgeber für diese Ausstellung war\, da sich u.a. etliche von ihm gestaltete Konzertposter in der Schau wiederfinden. Der Autodidakt brachte sich vom Zeichnen bis zum Gitarrespielen alles selbst bei\, „da das die Kunst am reinsten hält“\, wie er findet. Über die Jahre schuf er auch diverse Auftragsarbeiten\, von denen man ebenfalls einige in der Ausstellung sehen kann.\n„Ich bin ein Faultier“ ist Bernhard Drexler’s erste Austellung\, die er seiner Lebensgefährtin Flora Prohaska widmet\, da sie ihm diese zu seinem 30. Geburtstag ermöglichte.\nmehr: http://www.imasloth.at \n
URL:https://www.strawanzerin.at/termin/ich-bin-ein-faultier-in-der-josefstadt/
LOCATION:Galerie Sandpeck Wien 8\, Florianigasse 75\, Wien\, Wien\, 1080\, Österreich
CATEGORIES:Ausstellung,Deutsch,Gratis,Kunst/Kultur,Musik,Wien
ATTACH;FMTTYPE=image/jpeg:https://www.strawanzerin.at/wp-content/uploads/2019/06/PR_Bernhard-Drexler_72.jpg
ORGANIZER;CN="Galerie%20Sandpeck%20Wien%208":MAILTO:christiane@sandpeck.com
GEO:48.2119839;16.3409609
X-APPLE-STRUCTURED-LOCATION;VALUE=URI;X-ADDRESS=Galerie Sandpeck Wien 8 Florianigasse 75 Wien Wien 1080 Österreich;X-APPLE-RADIUS=500;X-TITLE=Florianigasse 75:geo:16.3409609,48.2119839
END:VEVENT
END:VCALENDAR