BEGIN:VCALENDAR
VERSION:2.0
PRODID:-//STRAWANZERIN - ECPv4.9.5//NONSGML v1.0//EN
CALSCALE:GREGORIAN
METHOD:PUBLISH
X-WR-CALNAME:STRAWANZERIN
X-ORIGINAL-URL:https://www.strawanzerin.at
X-WR-CALDESC:Veranstaltungen im STRAWANZERIN
BEGIN:VTIMEZONE
TZID:"Europe/Vienna"
BEGIN:DAYLIGHT
TZOFFSETFROM:+0100
TZOFFSETTO:+0200
TZNAME:CEST
DTSTART:20220327T010000
END:DAYLIGHT
BEGIN:STANDARD
TZOFFSETFROM:+0200
TZOFFSETTO:+0100
TZNAME:CET
DTSTART:20221030T010000
END:STANDARD
END:VTIMEZONE
BEGIN:VEVENT
DTSTART;TZID="Europe/Vienna":20220402T110000
DTEND;TZID="Europe/Vienna":20221030T180000
DTSTAMP:20260421T160135
CREATED:20240513T123427Z
LAST-MODIFIED:20240513T123427Z
UID:83818-1648897200-1667152800@www.strawanzerin.at
SUMMARY:"Ich bin noch nicht tot" - Ben Vautier zu Gast im Ausstellungshaus Spoerri
DESCRIPTION:Ben Vautiers Werke sind frech\, widersprüchlich\, humorvoll – und sehr lebendig. Das selbe könnte man über Daniel Spoerris Arbeiten sagen. In Hadersdorf am Kamp wird die Kunst der beiden langjährigen Künstlerfreunde heuer in einer Gegenüberstellung gezeigt. \nBen und Spoerri lernten sich Anfang der 1960er Jahre kennen\, es gab etliche gemeinsame Projekte. Während Ben zu einem der wichtigsten Künstler der französischen „Fluxusbewegung“ zu rechnen ist und für seine Bilder mit weißer Schreibschrift auf schwarzem Grund bekannt geworden ist\, zählt Spoerri zu den bedeutendsten Vertretern des „Nouveau Réalisme“ und der Objektkunst und hat sich mit seinen „Fallenbildern“ einen Namen gemacht. \nWas verbindet die Künstler heute außer gemeinsamen Erinnerungen an eine bewegte Zeit? Es ist der Zweifel und das stete Hinterfragen von Regeln\, Gewohnheiten und Behauptungen – auch den eigenen. \n
URL:https://www.strawanzerin.at/termin/ich-bin-noch-nicht-tot-ben-vautier-zu-gast-im-ausstellungshaus-spoerri-3/2022-04-02/
LOCATION:Ausstellungshaus Spoerri\, Hauptplatz 23\, Hadersdorf am Kamp\, Niederösterreich\, 3493\, Österreich
CATEGORIES:Ausstellung
ATTACH;FMTTYPE=image/jpeg:https://www.strawanzerin.at/wp-content/uploads/2022/04/schüppenhauer_Laden-Aufbau-mit-Ben-1-1.jpg
ORGANIZER;CN="Ausstellungshaus%20Spoerri":MAILTO:office@spoerri.at
END:VEVENT
END:VCALENDAR