BEGIN:VCALENDAR
VERSION:2.0
PRODID:-//STRAWANZERIN - ECPv4.9.5//NONSGML v1.0//EN
CALSCALE:GREGORIAN
METHOD:PUBLISH
X-WR-CALNAME:STRAWANZERIN
X-ORIGINAL-URL:https://www.strawanzerin.at
X-WR-CALDESC:Veranstaltungen im STRAWANZERIN
BEGIN:VTIMEZONE
TZID:"Europe/Helsinki"
BEGIN:DAYLIGHT
TZOFFSETFROM:+0200
TZOFFSETTO:+0300
TZNAME:EEST
DTSTART:20150329T010000
END:DAYLIGHT
BEGIN:STANDARD
TZOFFSETFROM:+0300
TZOFFSETTO:+0200
TZNAME:EET
DTSTART:20151025T010000
END:STANDARD
END:VTIMEZONE
BEGIN:VEVENT
DTSTART;TZID="Europe/Helsinki":20151022T190000
DTEND;TZID="Europe/Helsinki":20151022T220000
DTSTAMP:20260420T224000
CREATED:20151005T103333Z
LAST-MODIFIED:20151007T093217Z
UID:20107-1445540400-1445551200@www.strawanzerin.at
SUMMARY:Ich in Gelb
DESCRIPTION:Lesung mit Olga Flor\nKunstvoll und mit leichter Hand verknüpft Olga Flor in ihrem Blog-Roman „Ich in Gelb“ Kurztexte\, Kommentare\, Links und Bilder zu einem engmaschigen Netz. Was sie darin aus den Tiefspeichern einer faszinierend fremden Welt zwischen Mode und Körperdesign zutage fördert\, schillert in den grellen Farben einer Gegenwart\, in der sich der Mensch selbst überlebt hat und zur Fantasiegestalt\, zum »Real-Life-Avatar« einer viel reelleren Webidentität wird. \n
URL:https://www.strawanzerin.at/termin/ich-in-gelb/2015-10-22/
LOCATION:Literaturhaus Mattersburg\, Brunnenplatz 4\, Rathaus 1. Stock\, Mattersburg\, Burgenland\, 7210\, Vereinigte Staaten
CATEGORIES:Burgenland,Deutsch,freie Spende,Literatur
ATTACH;FMTTYPE=image/jpeg:https://www.strawanzerin.at/wp-content/uploads/2015/10/flor.jpg
ORGANIZER;CN="Literaturhaus%20Mattersburg":MAILTO:sabrina.hergovich@literaturhausmattersburg.at
END:VEVENT
END:VCALENDAR