BEGIN:VCALENDAR
VERSION:2.0
PRODID:-//STRAWANZERIN - ECPv4.9.5//NONSGML v1.0//EN
CALSCALE:GREGORIAN
METHOD:PUBLISH
X-WR-CALNAME:STRAWANZERIN
X-ORIGINAL-URL:https://www.strawanzerin.at
X-WR-CALDESC:Veranstaltungen im STRAWANZERIN
BEGIN:VTIMEZONE
TZID:"Europe/Vienna"
BEGIN:DAYLIGHT
TZOFFSETFROM:+0100
TZOFFSETTO:+0200
TZNAME:CEST
DTSTART:20260329T010000
END:DAYLIGHT
BEGIN:STANDARD
TZOFFSETFROM:+0200
TZOFFSETTO:+0100
TZNAME:CET
DTSTART:20261025T010000
END:STANDARD
END:VTIMEZONE
BEGIN:VEVENT
DTSTART;TZID="Europe/Vienna":20260504T200000
DTEND;TZID="Europe/Vienna":20260504T220000
DTSTAMP:20260423T144210
CREATED:20260423T090417Z
LAST-MODIFIED:20260423T090417Z
UID:113861-1777924800-1777932000@www.strawanzerin.at
SUMMARY:ICH SEHE CLARA von Stefan Lasko
DESCRIPTION:Nach „Herr Ponzi sucht das Glück“\, der ersten Produktion des Autors und Regisseurs in der Drachengasse\, schickt Stefan Lasko Agnes Hausmann\, Roman Blumenschein und Skye MacDonald in einem Furioso durch die Lebens- und Rezeptionsgeschichte Clara Schumanns –\nimmer angetrieben von der Frage\, wie sie das alles hinbekommen hat. \nText\, Regie: Stefan Lasko\nBühne\, Kostüme: Kaja Dymnicki\nMusik: Stefan Galler\, July Skone\nRegieassistenz: Emilia Laczkovics\nEs spielen: Roman Blumenschein\, Stefan Galler\, Agnes Hausmann\, Skye MacDonald\, July Skone \nRechte bei Stefan Lasko \nFoto: Philine Hofmann \n
URL:https://www.strawanzerin.at/termin/ich-sehe-clara-von-stefan-lasko/
LOCATION:1010 Wien Theater Drachengasse\, Fleischmarkt 22/Eingang Drachengasse 2\, Wien\, 1010\, Österreich
CATEGORIES:Bildung,Feminismus,Kunst/Kultur,Musik,Theater/Kabarett,Wien
ORGANIZER;CN="Theater%20Drachengasse":MAILTO:karten.drachengasse.at
END:VEVENT
END:VCALENDAR