BEGIN:VCALENDAR
VERSION:2.0
PRODID:-//STRAWANZERIN - ECPv4.9.5//NONSGML v1.0//EN
CALSCALE:GREGORIAN
METHOD:PUBLISH
X-WR-CALNAME:STRAWANZERIN
X-ORIGINAL-URL:https://www.strawanzerin.at
X-WR-CALDESC:Veranstaltungen im STRAWANZERIN
BEGIN:VTIMEZONE
TZID:"Europe/Helsinki"
BEGIN:DAYLIGHT
TZOFFSETFROM:+0200
TZOFFSETTO:+0300
TZNAME:EEST
DTSTART:20160327T010000
END:DAYLIGHT
BEGIN:STANDARD
TZOFFSETFROM:+0300
TZOFFSETTO:+0200
TZNAME:EET
DTSTART:20161030T010000
END:STANDARD
END:VTIMEZONE
BEGIN:VEVENT
DTSTART;TZID="Europe/Helsinki":20160524T190000
DTEND;TZID="Europe/Helsinki":20160524T190000
DTSTAMP:20260425T141227
CREATED:20160512T190309Z
LAST-MODIFIED:20160512T190309Z
UID:29098-1464116400-1464116400@www.strawanzerin.at
SUMMARY:IFFI - 25. Internationales Filmfestival Innsbruck
DESCRIPTION:Das IFFI 2016 findet von 24. bis 29. Mai im Innsbrucker Leokino/Cinematograph statt und feiert heuer seinen 25. Geburtstag. Auch dieses Jahr sind wieder vielseitige Beiträge aus allen Weltregionen dabei\, die im Fokus des Festivals stehen. Dabei wird heuer ein Schwerpunkt auf die Migrations- & Flüchtlings-Thematik im Festival-Programm zu finden sein. Dieser ergibt sich auch aus der Retrospektive\, die wir zum 25. Festivaljubiläum zeigen\, da dieses Thema beim IFFI immer schon sehr präsent war. \n
URL:https://www.strawanzerin.at/termin/iffi-25-internationales-filmfestival-innsbruck/2016-05-24/
LOCATION:Österreich
CATEGORIES:Eintrittspreis,Film,Kunst/Kultur,Tirol
ATTACH;FMTTYPE=image/jpeg:https://www.strawanzerin.at/wp-content/uploads/2016/05/SW.jpg
ORGANIZER;CN="Internationale%20Film%20Festival%20Innsbruck":MAILTO:info@iffi.at
END:VEVENT
END:VCALENDAR