BEGIN:VCALENDAR
VERSION:2.0
PRODID:-//STRAWANZERIN - ECPv4.9.5//NONSGML v1.0//EN
CALSCALE:GREGORIAN
METHOD:PUBLISH
X-WR-CALNAME:STRAWANZERIN
X-ORIGINAL-URL:https://www.strawanzerin.at
X-WR-CALDESC:Veranstaltungen im STRAWANZERIN
BEGIN:VTIMEZONE
TZID:"Europe/Helsinki"
BEGIN:DAYLIGHT
TZOFFSETFROM:+0200
TZOFFSETTO:+0300
TZNAME:EEST
DTSTART:20160327T010000
END:DAYLIGHT
BEGIN:STANDARD
TZOFFSETFROM:+0300
TZOFFSETTO:+0200
TZNAME:EET
DTSTART:20161030T010000
END:STANDARD
END:VTIMEZONE
BEGIN:VEVENT
DTSTART;TZID="Europe/Helsinki":20160311T190000
DTEND;TZID="Europe/Helsinki":20160311T200000
DTSTAMP:20260421T210040
CREATED:20160308T162208Z
LAST-MODIFIED:20160308T162208Z
UID:24696-1457722800-1457726400@www.strawanzerin.at
SUMMARY:imagetanz 2016: Claire Lefèvre und Matan Levkowich - Function Man
DESCRIPTION:Freitag 11.03.2016\, 19:00 Uhr\nSamstag 12.03.2016\, 19:00 Uhr\nMittwoch 16.03.2016\, 20:00 uhr (Davor: 18:00 Uhr Almost Yoga-kostenloses Warm Up) \nFunction Man untersucht die Auswirkungen von intensivem Training auf einen Körper. Ausgehend von der persönlichen Erfahrung Matan Levkowichs als Tänzer und Soldat stehen sich hier politische Militarisierung und Militarisierung als rein körperlicher Akt gegenüber. In der Annahme\, dass intensives Tanztraining den Körper ebenso nachhaltig und vielschichtig verändern kann wie militärisches Training\, begibt sich der Performer auf der Bühne auf die Suche nach Sinn und Unsinn von bedingungslosem Drill. \nDas Tanzsolo entwickelte Matan Levkowich gemeinsam mit der Choreografin Claire Lefèvre. Durch die Mischung aus persönlicher Erfahrung und theoretischer Recherchearbeit zum Thema wird das Stück gleichermaßen zur spannenden Sozialstudie wie zur politischen Untersuchung und erforscht\, welchen Einfluss Militarisierung nicht nur anatomisch und persönlich auf einen Menschen\, sondern auch auf eine Gesellschaft haben kann. Auf diese Weise nimmt Function Man das Publikum mit auf eine Entdeckungsreise durch die menschliche Psyche und den Körper und stellt einmal mehr die Frage\, ob Funktionalität als Selbstzweck gesehen werden kann. \nMatan Levkowich ist ein Tänzer\, Choreograf und Grafikdesigner aus Israel. Seine tänzerischen Arbeiten setzen sich mit körperlichem Gespür und Intuition auseinander. Derzeit lebt und arbeitet er in Wien und tourt mit seinen Stücken europaweit.\nClaire Lefèvre ist Choreografin und Performerin. In ihren Arbeiten\, die sie stets in enger Zusammenarbeit mit den PerformerInnen entwickelt\, spielen Spontaneität und Visualität eine zentrale Rolle. Derzeit lebt und arbeitet die aus Frankreich stammende Künstlerin in Wien.\nFunction Man ist die erste Zusammenarbeit der beiden KünstlerInnen. \n
URL:https://www.strawanzerin.at/termin/imagetanz-2016-claire-lefevre-und-matan-levkowich-function-man/2016-03-11/
LOCATION:Österreich
ATTACH;FMTTYPE=image/jpeg:https://www.strawanzerin.at/wp-content/uploads/2016/02/Function-Man-®-Yair-Meuhas_klitzeklein.jpg
ORGANIZER;CN="brut":MAILTO:info@brut-wien.at
END:VEVENT
END:VCALENDAR