BEGIN:VCALENDAR
VERSION:2.0
PRODID:-//STRAWANZERIN - ECPv4.9.5//NONSGML v1.0//EN
CALSCALE:GREGORIAN
METHOD:PUBLISH
X-WR-CALNAME:STRAWANZERIN
X-ORIGINAL-URL:https://www.strawanzerin.at
X-WR-CALDESC:Veranstaltungen im STRAWANZERIN
BEGIN:VTIMEZONE
TZID:"Europe/Helsinki"
BEGIN:DAYLIGHT
TZOFFSETFROM:+0200
TZOFFSETTO:+0300
TZNAME:EEST
DTSTART:20170326T010000
END:DAYLIGHT
BEGIN:STANDARD
TZOFFSETFROM:+0300
TZOFFSETTO:+0200
TZNAME:EET
DTSTART:20171029T010000
END:STANDARD
END:VTIMEZONE
BEGIN:VEVENT
DTSTART;TZID="Europe/Helsinki":20170317T210000
DTEND;TZID="Europe/Helsinki":20170317T220000
DTSTAMP:20260421T211051
CREATED:20170217T094526Z
LAST-MODIFIED:20170217T094526Z
UID:39891-1489784400-1489788000@www.strawanzerin.at
SUMMARY:imagetanz: Claire Lefèvre & Evandro Pedroni - S/M (Stage/Made)
DESCRIPTION:Das Duett S/M (Stage/Made) von Claire Lefèvre und Evandro Pedroniist ein choreografisches Improvisationsspiel\, in dem das Entstehen einer Tanzperformance live und im Moment ausgehandelt wird. Jeden Abend zeigt sich den ZuseherInnen ein Arbeitsprozess\, der sensibel wechselseitige Macht-\, Hierarchie- und Fürsorgeverhältnisse zwischen Tänzer und Choreografin freilegt. \nS/M (Stage/Made) basiert auf einer Recherche\, die sich mit Improvisationstechniken und Entscheidungsprozessen in Choreografie und Performance beschäftigt. Claire Lefèvre und Evandro Pedroni nutzen Autorität und Hierarchie als kreative Werkzeuge\, um Aushandlungsprozesse in der künstlerischen Arbeit sichtbar zu machen. Beobachtet man ihr gemeinsames Spiel mit Improvisation\, Autorität und Hierarchie\, so ist es nach einer Weile gar nicht mehr so klar\, wer tatsächlich die choreografischen Fäden in der Hand hält. \nDie französische Choreografin und Performerin Claire Lefèvre und der brasilianische Tänzer und Performer Evando Pedroni leben beide in Wien und arbeiten seit ihrer gemeinsamen Ausbildung am SEAD (Salzburg Academy of Dance) zusammen. Für S/M (Stage/Made) kollabieren sie mit dem Lichtdesigner Hannes Ruschbaschan. Beide hatten bereits erste Showings in Wien\, u. a. im brut und im Tanzquartier. Claire Lefèvre zeigte eigene Stücke auch bei internationalen Festivals\, und Evandro Pedroni performte zudem in Stücken von Oleg Soulimenko\, Martin Nachbar\, Akemi Takeya u. a. \nKomplettes Festivalprogramm unter: http://brut-wien.at/de/Programm/Festivals-Projekte/Festivals/imagetanz-2017 \n
URL:https://www.strawanzerin.at/termin/imagetanz-claire-lefevre-evandro-pedroni-sm-stagemade/2017-03-17/
LOCATION:brut im Künstlerhaus\, Karlsplatz 5\, Wien\, 1010\, Österreich
CATEGORIES:ab 7,Tanz
ATTACH;FMTTYPE=image/jpeg:https://www.strawanzerin.at/wp-content/uploads/2017/02/web_brut_Claire-Lefèvre-und-Evandro-Pedroni_credit-Ivan-Jakaric-_1_neu_online-Kalender.jpg
ORGANIZER;CN="brut":MAILTO:info@brut-wien.at
GEO:48.200534;16.3715493
X-APPLE-STRUCTURED-LOCATION;VALUE=URI;X-ADDRESS=brut im Künstlerhaus Karlsplatz 5 Wien 1010 Österreich;X-APPLE-RADIUS=500;X-TITLE=Karlsplatz 5:geo:16.3715493,48.200534
END:VEVENT
END:VCALENDAR