BEGIN:VCALENDAR
VERSION:2.0
PRODID:-//STRAWANZERIN - ECPv4.9.5//NONSGML v1.0//EN
CALSCALE:GREGORIAN
METHOD:PUBLISH
X-WR-CALNAME:STRAWANZERIN
X-ORIGINAL-URL:https://www.strawanzerin.at
X-WR-CALDESC:Veranstaltungen im STRAWANZERIN
BEGIN:VTIMEZONE
TZID:"Europe/Helsinki"
BEGIN:DAYLIGHT
TZOFFSETFROM:+0200
TZOFFSETTO:+0300
TZNAME:EEST
DTSTART:20170326T010000
END:DAYLIGHT
BEGIN:STANDARD
TZOFFSETFROM:+0300
TZOFFSETTO:+0200
TZNAME:EET
DTSTART:20171029T010000
END:STANDARD
END:VTIMEZONE
BEGIN:VEVENT
DTSTART;TZID="Europe/Helsinki":20170308T200000
DTEND;TZID="Europe/Helsinki":20170308T230000
DTSTAMP:20260421T211035
CREATED:20170217T094441Z
LAST-MODIFIED:20170217T094441Z
UID:39881-1489003200-1489014000@www.strawanzerin.at
SUMMARY:imagetanz: Mårten Spångberg - The Internet
DESCRIPTION:The Internet ist ein Performanceabend\, der sich anfühlt\, als würde man sich in eine wunderbare\, befremdliche Landschaft aus Tanz\, Skulpturen und Musik und auf einen Balanceakt zwischen Theater und Museum begeben. Mårten Spångberg und die drei hervorragenden Tänzerinnen Sandra Lolax\, Hanna Strandberg und Rebecka Stillman erforschen in dieser Landschaft die Auswirkungen digitaler Kommunikation auf Choreografie: Soziale Netzwerke\, Gesundheits-Apps\, Games\, Dating Tools u. a. werden benutzt\, um Tanz\, Rhythmus und Stimmungen zu erzeugen. \nDer Titel ist Metapher für eine monumentale\, aber immaterielle Struktur ohne Anfang und Ende – wie das Internet eben. Die vierstündige Performance lädt die ZuschauerInnen ein\, herumzulaufen\, zu beobachten\, sich zu entspannen und zu unterhalten – oder sogar zu gehen und wiederzukommen. \nDer schwedische Performer\, Choreograf und Theoretiker Mårten Spångberg arbeitete mit Xavier le Roy\, Christine de Smedt (les ballets C de la B)\, Jan Ritsema und dem Frankfurter Ballett. Zusammen mit dem Architekten Tor Lindstrand gründete er das International Festival für Architektur und Tanz. Mårten Spångbergs letzte Arbeiten wurden hervorragend besprochen\, sein Werk als „unspectacular and assumingly revolutionary“ gelobt. \nKomplettes Festivalprogramm unter: http://brut-wien.at/de/Programm/Festivals-Projekte/Festivals/imagetanz-2017 \n
URL:https://www.strawanzerin.at/termin/imagetanz-marten-spangberg-the-internet/2017-03-08/
LOCATION:brut im Künstlerhaus\, Karlsplatz 5\, Wien\, 1010\, Österreich
CATEGORIES:ab 7,Eintrittspreis,Tanz
ATTACH;FMTTYPE=image/jpeg:https://www.strawanzerin.at/wp-content/uploads/2017/02/web_Marten-Spangberg_The-internet_credit-Tani-Simberg_8_300.jpg
ORGANIZER;CN="brut":MAILTO:info@brut-wien.at
GEO:48.200534;16.3715493
X-APPLE-STRUCTURED-LOCATION;VALUE=URI;X-ADDRESS=brut im Künstlerhaus Karlsplatz 5 Wien 1010 Österreich;X-APPLE-RADIUS=500;X-TITLE=Karlsplatz 5:geo:16.3715493,48.200534
END:VEVENT
END:VCALENDAR