BEGIN:VCALENDAR
VERSION:2.0
PRODID:-//STRAWANZERIN - ECPv4.9.5//NONSGML v1.0//EN
CALSCALE:GREGORIAN
METHOD:PUBLISH
X-WR-CALNAME:STRAWANZERIN
X-ORIGINAL-URL:https://www.strawanzerin.at
X-WR-CALDESC:Veranstaltungen im STRAWANZERIN
BEGIN:VTIMEZONE
TZID:"Europe/Vienna"
BEGIN:DAYLIGHT
TZOFFSETFROM:+0100
TZOFFSETTO:+0200
TZNAME:CEST
DTSTART:20220327T010000
END:DAYLIGHT
BEGIN:STANDARD
TZOFFSETFROM:+0200
TZOFFSETTO:+0100
TZNAME:CET
DTSTART:20221030T010000
END:STANDARD
END:VTIMEZONE
BEGIN:VEVENT
DTSTART;TZID="Europe/Vienna":20220710T160000
DTEND;TZID="Europe/Vienna":20220710T160000
DTSTAMP:20260423T141456
CREATED:20220609T124154Z
LAST-MODIFIED:20220610T104319Z
UID:85367-1657468800-1657468800@www.strawanzerin.at
SUMMARY:impressions’22 Workshop Opening Lecture
DESCRIPTION:Wir laden alle Teilnehmer*innen und Tanzinteressierten herzlich zur Programmpräsentation der Work­shop­-Dozent*innen im Arsenal ein. Hier können Sie unsere Gäste kennenlernen\, bevor die Kurse beginnen! \n
URL:https://www.strawanzerin.at/termin/impressions22-workshop-opening-lecture/
LOCATION:Arsenal\, Burgtheater-Probebühnen / ART-for-ART-Werkstätten\, Arsenal\, Objekt 19\, Wien\, Wien\, 1030\, Österreich
CATEGORIES:Gratis,Tanz,Wien,Workshop
ORGANIZER;CN="ImPulsTanz":MAILTO:info@impulstanz.com
GEO:48.1941134;16.3953555
X-APPLE-STRUCTURED-LOCATION;VALUE=URI;X-ADDRESS=Arsenal Burgtheater-Probebühnen / ART-for-ART-Werkstätten Arsenal Objekt 19 Wien Wien 1030 Österreich;X-APPLE-RADIUS=500;X-TITLE=Burgtheater-Probebühnen / ART-for-ART-Werkstätten\, Arsenal\, Objekt 19:geo:16.3953555,48.1941134
END:VEVENT
END:VCALENDAR