BEGIN:VCALENDAR
VERSION:2.0
PRODID:-//STRAWANZERIN - ECPv4.9.5//NONSGML v1.0//EN
CALSCALE:GREGORIAN
METHOD:PUBLISH
X-WR-CALNAME:STRAWANZERIN
X-ORIGINAL-URL:https://www.strawanzerin.at
X-WR-CALDESC:Veranstaltungen im STRAWANZERIN
BEGIN:VTIMEZONE
TZID:"Europe/Vienna"
BEGIN:DAYLIGHT
TZOFFSETFROM:+0100
TZOFFSETTO:+0200
TZNAME:CEST
DTSTART:20170326T010000
END:DAYLIGHT
BEGIN:STANDARD
TZOFFSETFROM:+0200
TZOFFSETTO:+0100
TZNAME:CET
DTSTART:20171029T010000
END:STANDARD
END:VTIMEZONE
BEGIN:VEVENT
DTSTART;TZID="Europe/Vienna":20171017T200000
DTEND;TZID="Europe/Vienna":20171017T220000
DTSTAMP:20260420T212945
CREATED:20170913T162012Z
LAST-MODIFIED:20171010T120211Z
UID:46815-1508270400-1508277600@www.strawanzerin.at
SUMMARY:ImPulsTanz Special: Anne Teresa De Keersmaeker "Rosas danst Rosas"
DESCRIPTION:Dieses Stück Tanzgeschichte wirkt heute noch so atemberaubend wie vor 34 Jahren\, als seine Choreografin Anne Teresa De Keersmaeker am Beginn ihrer sagenhaften Weltkarriere stand. „Rosas danst Rosas“ – originaler Untertitel „Five Movements for Four Women“ – verschaffte der Belgierin ihren internationalen Durchbruch. Jetzt im Oktober kommt das brillante und provokante Meisterwerk wieder nach Wien: mit einer ganz neuen\, jungen Besetzung\, die den perfekten Tanz der Originalversion wieder aufleben lässt. In schnellem Pulsschlag\, der exakte Bewegungen in virtuose Wiederholungen\, nervöses Huschen und aggressives Fallen treibt\, lassen vier temperamentvolle Frauen ihre feminine Kraft und Sensibilität auf der Bühne im Odeon wirken. \nNach der Uraufführung 1983 in Brüssel wurden diese vier coolen „Rosas“ als „Béjarts rebellische Töchter“ bewundert – auch mit fragwürdigen Spätfolgen im heißen Musikbusiness: 2011 bediente sich die texanische Popdiva Beyoncé für ihren Clip „Countdown“ ungefragt aus Thierry De Meys kongenialer Verfilmung von „Rosas danst Rosas“. Die flämische Queen of Choreography reagierte mit Gelassenheit und der Initiative „Re:Rosas“\, einer Einladung an alle\, die plagiierten Tanzpassagen selbst zu interpretieren und via Clip zu veröffentlichen. Mit überwältigendem Erfolg. Hunderte Videos machten aus „Re:Rosas“ ein weltweites\, buntes Community-Projekt\, das auch diesen Sommer bei ImPulsTanz im mumok Halt machte. Das originale Stück wird nun bereits von der vierten Tänzerinnen-Generation aufgeführt. \n
URL:https://www.strawanzerin.at/termin/impulstanz-special-anne-teresa-de-keersmaeker-rosas-danst-rosas/2017-10-17/
CATEGORIES:Tanz
ATTACH;FMTTYPE=image/jpeg:https://www.strawanzerin.at/wp-content/uploads/2017/09/17_DeKeersmaeker_RosasdanstRosascAnneVanAerschot_01.jpg
ORGANIZER;CN="ImPulsTanz":MAILTO:info@impulstanz.com
END:VEVENT
END:VCALENDAR