BEGIN:VCALENDAR
VERSION:2.0
PRODID:-//STRAWANZERIN - ECPv4.9.5//NONSGML v1.0//EN
CALSCALE:GREGORIAN
METHOD:PUBLISH
X-WR-CALNAME:STRAWANZERIN
X-ORIGINAL-URL:https://www.strawanzerin.at
X-WR-CALDESC:Veranstaltungen im STRAWANZERIN
BEGIN:VTIMEZONE
TZID:"Europe/Vienna"
BEGIN:DAYLIGHT
TZOFFSETFROM:+0100
TZOFFSETTO:+0200
TZNAME:CEST
DTSTART:20210328T010000
END:DAYLIGHT
BEGIN:STANDARD
TZOFFSETFROM:+0200
TZOFFSETTO:+0100
TZNAME:CET
DTSTART:20211031T010000
END:STANDARD
END:VTIMEZONE
BEGIN:VEVENT
DTSTART;VALUE=DATE:20210715
DTEND;VALUE=DATE:20210817
DTSTAMP:20260420T202458
CREATED:20210802T113006Z
LAST-MODIFIED:20210802T113037Z
UID:78604-1626321600-1629086399@www.strawanzerin.at
SUMMARY:ImPulsTanz – Vienna Dance Festival 2021
DESCRIPTION:Die 38. Ausgabe des ImPulsTanz – Vienna International Dance Festival präsentiert von 15. Juli bis 15. August 2021 61 Produktionen in zwölf Spielstätten – vom Volkstheater über das Odeon bis zum ehemaligen Gustinus-Ambrosi-Museum im Augarten. Darunter finden sich 18 Uraufführungen\, 36 österreichische Erstaufführungen\, drei [ImPulsTanz Classics] und neun Stücke der [8:tension] Young Choreographers’ Series. Zudem lädt das Festival zu Film- und Musikvideoprogrammen\, Buchpräsentationen\, einer Ausstellung und vielem mehr. \n
URL:https://www.strawanzerin.at/termin/impulstanz-vienna-dance-festival-2021/2021-07-15/
LOCATION:Wien\, Museumsstraße 5\, Wien\, 1070\, Österreich
CATEGORIES:ab 7,Ausstellung,Film,Tanz,Theater/Kabarett,Wien
ATTACH;FMTTYPE=image/jpeg:https://www.strawanzerin.at/wp-content/uploads/2021/07/20_DadaMasilo_TheSacrificecJohnHogg_32-scaled.jpg
ORGANIZER;CN="ImPulsTanz":MAILTO:info@impulstanz.com
END:VEVENT
END:VCALENDAR