BEGIN:VCALENDAR
VERSION:2.0
PRODID:-//STRAWANZERIN - ECPv4.9.5//NONSGML v1.0//EN
CALSCALE:GREGORIAN
METHOD:PUBLISH
X-WR-CALNAME:STRAWANZERIN
X-ORIGINAL-URL:https://www.strawanzerin.at
X-WR-CALDESC:Veranstaltungen im STRAWANZERIN
BEGIN:VTIMEZONE
TZID:"Europe/Vienna"
BEGIN:DAYLIGHT
TZOFFSETFROM:+0100
TZOFFSETTO:+0200
TZNAME:CEST
DTSTART:20190331T010000
END:DAYLIGHT
BEGIN:STANDARD
TZOFFSETFROM:+0200
TZOFFSETTO:+0100
TZNAME:CET
DTSTART:20191027T010000
END:STANDARD
END:VTIMEZONE
BEGIN:VEVENT
DTSTART;TZID="Europe/Vienna":20191119T183000
DTEND;TZID="Europe/Vienna":20191119T193000
DTSTAMP:20260420T114244
CREATED:20191025T184201Z
LAST-MODIFIED:20191029T082757Z
UID:69841-1574188200-1574191800@www.strawanzerin.at
SUMMARY:Infoabend "LEHRGANG SCHREIBPÄDAGOGIK"
DESCRIPTION:Petra Ganglbauer und Brigitta Höpler geben einen Überblick über die Ausbildung zur Schreibpädagogin/ zum Schreibpädagogen und stehen für alle Fragen zur Verfügung. \nIm BÖS-Atelier\, Vivenotgasse 30\, Top 2.2.\, 1120 Wien\n19. November 2019\, 18:30 – 19:30 Uhr.\nKeine Anmeldung notwendig. \nDu willst andere ins Schreiben bringen und Schreibgruppen leiten? Wir bieten eine Ausbildung zur Schreibpädagogin / zum Schreibpädagogen an.\nBeispiele aus der Literatur\, viele praktische Schreibübungen und Inputs zur Arbeit mit unterschiedlichen (Ziel-)Gruppen bereiten dich auf ein neues Berufsfeld vor. \n
URL:https://www.strawanzerin.at/termin/infoabend-lehrgang-schreibpaedagogik/
LOCATION:BÖS-Atelier\, Vivenotgasse 30/ 2.2\, 1120 Wien\, Wien\, 1120\, Österreich
CATEGORIES:Bildung,Deutsch,Gratis,Kunst/Kultur,Literatur,Treffen,Wien
ATTACH;FMTTYPE=image/jpeg:https://www.strawanzerin.at/wp-content/uploads/2019/10/BÖS-Workshop-Bild-1.jpg
ORGANIZER;CN="B%C3%96S-Berufsverband%20%C3%96sterreichischer%20Schreibp%C3%A4dagogInnen":MAILTO:hannah.sideris@boesmail.at
GEO:48.1806775;16.3309428
X-APPLE-STRUCTURED-LOCATION;VALUE=URI;X-ADDRESS=BÖS-Atelier Vivenotgasse 30/ 2.2 1120 Wien Wien 1120 Österreich;X-APPLE-RADIUS=500;X-TITLE=Vivenotgasse 30/ 2.2:geo:16.3309428,48.1806775
END:VEVENT
END:VCALENDAR