BEGIN:VCALENDAR
VERSION:2.0
PRODID:-//STRAWANZERIN - ECPv4.9.5//NONSGML v1.0//EN
CALSCALE:GREGORIAN
METHOD:PUBLISH
X-WR-CALNAME:STRAWANZERIN
X-ORIGINAL-URL:https://www.strawanzerin.at
X-WR-CALDESC:Veranstaltungen im STRAWANZERIN
BEGIN:VTIMEZONE
TZID:"Europe/Vienna"
BEGIN:DAYLIGHT
TZOFFSETFROM:+0100
TZOFFSETTO:+0200
TZNAME:CEST
DTSTART:20180325T010000
END:DAYLIGHT
BEGIN:STANDARD
TZOFFSETFROM:+0200
TZOFFSETTO:+0100
TZNAME:CET
DTSTART:20181028T010000
END:STANDARD
END:VTIMEZONE
BEGIN:VEVENT
DTSTART;TZID="Europe/Vienna":20180205T190000
DTEND;TZID="Europe/Vienna":20180205T200000
DTSTAMP:20260420T131015
CREATED:20180115T085149Z
LAST-MODIFIED:20180115T085149Z
UID:51534-1517857200-1517860800@www.strawanzerin.at
SUMMARY:Infoabend Schreibpädagogin
DESCRIPTION:Informationsabend über die Ausbildung zur Schreibpädagogin / zum Schreibpädagogen beim BOeS – Berufsverband Österreichischer SchreibpädagogInnen\nHerzlich Willkommen ! \n
URL:https://www.strawanzerin.at/termin/infoabend-schreibpaedagogin/
LOCATION:BOeS Atelier\, Vivenotgasse  30/2/2\, Wien\, Wien\, 1120\, Österreich
CATEGORIES:Literatur
GEO:48.1785387;16.3311487
X-APPLE-STRUCTURED-LOCATION;VALUE=URI;X-ADDRESS=BOeS Atelier Vivenotgasse  30/2/2 Wien Wien 1120 Österreich;X-APPLE-RADIUS=500;X-TITLE=Vivenotgasse  30/2/2:geo:16.3311487,48.1785387
END:VEVENT
END:VCALENDAR