BEGIN:VCALENDAR
VERSION:2.0
PRODID:-//STRAWANZERIN - ECPv4.9.5//NONSGML v1.0//EN
CALSCALE:GREGORIAN
METHOD:PUBLISH
X-WR-CALNAME:STRAWANZERIN
X-ORIGINAL-URL:https://www.strawanzerin.at
X-WR-CALDESC:Veranstaltungen im STRAWANZERIN
BEGIN:VTIMEZONE
TZID:"Europe/Helsinki"
BEGIN:DAYLIGHT
TZOFFSETFROM:+0200
TZOFFSETTO:+0300
TZNAME:EEST
DTSTART:20170326T010000
END:DAYLIGHT
BEGIN:STANDARD
TZOFFSETFROM:+0300
TZOFFSETTO:+0200
TZNAME:EET
DTSTART:20171029T010000
END:STANDARD
END:VTIMEZONE
BEGIN:VEVENT
DTSTART;TZID="Europe/Helsinki":20170315T180000
DTEND;TZID="Europe/Helsinki":20170315T190000
DTSTAMP:20260420T130829
CREATED:20170124T124532Z
LAST-MODIFIED:20170125T102621Z
UID:38989-1489600800-1489604400@www.strawanzerin.at
SUMMARY:Informationsabend
DESCRIPTION:Informationsabend im BOeS Atelier\nfür den neuen Lehrgangsdurchgang ab April 2017 \n
URL:https://www.strawanzerin.at/termin/informationsabend-2/
CATEGORIES:Deutsch,Gratis,Kunst/Kultur,Literatur,Wien
END:VEVENT
END:VCALENDAR