BEGIN:VCALENDAR
VERSION:2.0
PRODID:-//STRAWANZERIN - ECPv4.9.5//NONSGML v1.0//EN
CALSCALE:GREGORIAN
METHOD:PUBLISH
X-WR-CALNAME:STRAWANZERIN
X-ORIGINAL-URL:https://www.strawanzerin.at
X-WR-CALDESC:Veranstaltungen im STRAWANZERIN
BEGIN:VTIMEZONE
TZID:"Europe/Helsinki"
BEGIN:DAYLIGHT
TZOFFSETFROM:+0200
TZOFFSETTO:+0300
TZNAME:EEST
DTSTART:20160327T010000
END:DAYLIGHT
BEGIN:STANDARD
TZOFFSETFROM:+0300
TZOFFSETTO:+0200
TZNAME:EET
DTSTART:20161030T010000
END:STANDARD
END:VTIMEZONE
BEGIN:VEVENT
DTSTART;TZID="Europe/Helsinki":20160903T140000
DTEND;TZID="Europe/Helsinki":20160903T190000
DTSTAMP:20260421T071117
CREATED:20160523T091847Z
LAST-MODIFIED:20160523T091847Z
UID:29246-1472911200-1472929200@www.strawanzerin.at
SUMMARY:Innenräume
DESCRIPTION:Chris Nittel präsentiert „Innenräume“ in der „Galerie Sandpeck Wien 8“ Florianigasse 75\, Ecke Uhlplatz! \nVernissage: Samstag\, 3.9.2016 um 19Uhr\nAusstellung bis 9.9.2016\, Mo-Fr 14-19Uhr \nDer Kritiker Carlo Caporal aus Verona schreibt über Chris Nittel: „Ihre Bilder scheinen von Reisen zu erzählen\, als wären sie ins Gedächtnis geprägt. Sie dringt mit ihren verschiedenen Farben in die Psyche des Beobachters ein und spiegelt sich dort wieder.“\nEs ist Afrika\, für das das Herz der Künstlerin besonders schlägt. Wie bereits viele Künstler der Moderne vor ihr\, ist sie fasziniert von der ausdruckstarken und kraftvollen Energie des südlichen Kontinents. Einer archaischen Urkraft\, die im Alltag\, in Bräuchen oder Riten immer wieder eine Formensprache hervorbringt\, welche auf universelle und elementare Weise auch die Befindlichkeit unserer modernen westlichen Welt auf den Punkt zu bringen vermag. In ihren Werken greift Chris Nittel immer wieder auf materielle Versatzstücke der Afrikanischen Kultur zurück. Sie malt mit Blättern\, Steinen oder Geflechten. Masken\, Talismane\, Ahnenbäume\, Hölzer\, Ornamente verleihen ihren Bildern sehr spezielle\, auffällige Oberflächenstrukturen und Texturen. Sie werden solcherart zu Trägern ganz privater Erinnerungen und Inhalte und verhelfen gleichzeitig der Afrikanischen Kultur und Natur durch ihre eigenen Mittel zu Darstellung ihrer kleinen Kostbarkeiten.\nSelbst vollständig beseelt von Energie und Urkraft – sowohl der eigenen als auch jener\, der bereisten Orte –  arbeitet sich die Künstlerin an einer nahezu unerschöpflichen Fülle von Ideen\, Institutionen und Gedanken ab. Sie malt spontan\, sehr intuitiv\, aber auch meditativ. So macht sie Erlebtes bildlich fassbar und versöhnt die große Vielfalt von Motiven und Emotionen auf künstlerisch kreative Weise. Immer nutzt sie dabei die fundamentale Kraft der afrikanischen Spiritualität\, die auf der untrennbaren Verbundenheit von Körper\, Geist\, Seele und Natur basiert.\nKünstlerische Spiritualität und Geist von Christ Nittel sind weiblich. Weiblich wie die Frauen Afrikas\, die sie so sehr bewundert. Weiblich wie das Mütterliche\, das Gebären\, das Leben- und Schutzspendende. Weiblich ist Lebensenergie und Liebe!\n1942 wurde Christ Nittel in Tirol geboren\, wo sie heute noch lebt. Ihr Naheverhältnis zur Malerei bekam sie durch ihren Vater\, einem bekannten Künstler\, bereits in die Wiege gelegt. Ihre Freude an kreativer Gestaltung mündete früh im erlernen der verschiedenen Techniken in Seminaren und Akademien im In- und Ausland.\nDie Suche nach einem eigenständigen Weg wurde geprägt durch Reisen nach Afrika und Asien. Ihre Arbeiten werden seit 1988 in Ausstellungen im Inland und Ausland\, wie Luxemburg\, Rom\, Mailand und Verona\, um nur einige zu nennen\, gezeigt.\nKontakt: nittel@gmx.at\nWir freuen uns\, besonders junge Kunst in unseren Räumen\, einem breiten Prublikum in Wien zugängig zu machen! mehr www.sandpeck.com \n
URL:https://www.strawanzerin.at/termin/innenraeume/2016-09-03/
LOCATION:Österreich
CATEGORIES:Ausstellung,Gratis,Kunst/Kultur,Wien
ORGANIZER;CN="Christiane%20Sandpeck":MAILTO:christiane@sandpeck.com
END:VEVENT
END:VCALENDAR