BEGIN:VCALENDAR
VERSION:2.0
PRODID:-//STRAWANZERIN - ECPv4.9.5//NONSGML v1.0//EN
CALSCALE:GREGORIAN
METHOD:PUBLISH
X-WR-CALNAME:STRAWANZERIN
X-ORIGINAL-URL:https://www.strawanzerin.at
X-WR-CALDESC:Veranstaltungen im STRAWANZERIN
BEGIN:VTIMEZONE
TZID:"Europe/Vienna"
BEGIN:DAYLIGHT
TZOFFSETFROM:+0100
TZOFFSETTO:+0200
TZNAME:CEST
DTSTART:20220327T010000
END:DAYLIGHT
BEGIN:STANDARD
TZOFFSETFROM:+0200
TZOFFSETTO:+0100
TZNAME:CET
DTSTART:20221030T010000
END:STANDARD
END:VTIMEZONE
BEGIN:VEVENT
DTSTART;TZID="Europe/Vienna":20221118T150000
DTEND;TZID="Europe/Vienna":20221118T180000
DTSTAMP:20260421T011850
CREATED:20221114T142038Z
LAST-MODIFIED:20221114T142038Z
UID:87878-1668783600-1668794400@www.strawanzerin.at
SUMMARY:INSIDE - INSIGHT
DESCRIPTION:studio das weisse haus und die Vienna Art Week präsentieren:\nWorkshops + Performances: 18.11.2022\, 15-18h\nOpen Studios: 19.11.2022\, 13h-open end & 20.11.2022\, 13-18h \nMit: Terhas Berhe (Artist in Residence)\, Pablo Chiereghin (Gastkünstler)\, Yvon Chabrowski (Artist in Short-term Residence)\, Julia Gaisbacher\, Willem de Haan (Artist in Residence)\, Lena Rosa Händle\, Lavinia Lanner\, Rafael Lippuner\, Ryts Monet\, Hyeji Nam\, Yoshinori Niwa\, Yuji Oshima \nWährend Besucher:innen in Ausstellungen zumeist mit abgeschlossenen Kunstwerken konfrontiert sind\, ist studio das weisse haus ein Ort der kreativen Praxis und des Dialogs. Hier treffen in Wien ansässige Künstler:innen auf internationale Kulturproduzent:innen und bilden eine lebendige Gemeinschaft. In einer Zeit\, in der Solidarität und Fürsorge wichtiger sind denn je\, wollen wir mit der Reihe INSIDE––INSIGHT\, den Austausch mit einem vielfältigen Publikum intensivieren und Einblicke in den Arbeitsalltag und Produktionsprozess geben. \nProgramm\n18.11.2022\, 15-18h\n––Cyanotypie Workshop mit Lena Rosa Händle und Rafael Lippuner\n––Zeichenworkshop mit Lavinia Lanner\n––Performances von Yoshinori Niwa (15.00) und Hyeji Nam (17.30)\n(Begrenzte Plätze\, Anmeldung erforderlich: studio@dasweissehaus.at) \n19.11.2022\, 13h-Open End\n––Open Studios\, 13 – 21h\n––District Tour mit Katja Stecher\, 14.30 – 16.30h\n––Party und Bar von Pablo Chiereghin\, ab 16h\n20.11.2022\, 13 – 18h\n––Open Studios \n
URL:https://www.strawanzerin.at/termin/inside-insight/2022-11-18/
LOCATION:das weisse haus\, Hegelgasse 14\, 1010 Wien\, Wien\, Wien\, 1010\, Österreich
CATEGORIES:Kunst/Kultur,Workshop
ATTACH;FMTTYPE=image/png:https://www.strawanzerin.at/wp-content/uploads/2022/11/studio_VAW_INSIDE.png
ORGANIZER;CN="studio%20das%20weisse%20haus":MAILTO:studio@dasweissehaus.at
END:VEVENT
END:VCALENDAR