BEGIN:VCALENDAR
VERSION:2.0
PRODID:-//STRAWANZERIN - ECPv4.9.5//NONSGML v1.0//EN
CALSCALE:GREGORIAN
METHOD:PUBLISH
X-WR-CALNAME:STRAWANZERIN
X-ORIGINAL-URL:https://www.strawanzerin.at
X-WR-CALDESC:Veranstaltungen im STRAWANZERIN
BEGIN:VTIMEZONE
TZID:"Europe/Vienna"
BEGIN:DAYLIGHT
TZOFFSETFROM:+0100
TZOFFSETTO:+0200
TZNAME:CEST
DTSTART:20240331T010000
END:DAYLIGHT
BEGIN:STANDARD
TZOFFSETFROM:+0200
TZOFFSETTO:+0100
TZNAME:CET
DTSTART:20241027T010000
END:STANDARD
END:VTIMEZONE
BEGIN:VEVENT
DTSTART;TZID="Europe/Vienna":20241119T180000
DTEND;TZID="Europe/Vienna":20241119T180000
DTSTAMP:20260421T044625
CREATED:20241028T180229Z
LAST-MODIFIED:20241028T180229Z
UID:104368-1732039200-1732039200@www.strawanzerin.at
SUMMARY:Integration aus der Perspektive von jungen Frauen
DESCRIPTION:Vortrag von Verena Mrak (Sozialwissenschafterin\, Mitarbeiterin im Gender und Diversity Management\, Tänzerin\, Wien) \nIntegration kann es anscheinend nie genug geben – und dennoch scheint sie oft zu scheitern. Doch was genau bedeutet eigentlich Integration? Der Vortrag beleuchtet das Konzept der Integration sowohl aus wissenschaftlicher als auch aus politischer Perspektive. Interviews mit jungen geflüchteten Frauen in Wien\, die am Projekt \,Mädchen helfen Mädchen‘ des Vereins Free Girls Movement teilgenommen haben\, bieten Einblicke in die vielfältigen und überlappenden Herausforderungen. Diese Perspektiven werden in wissenschaftlichen und politischen Diskussionen häufig vernachlässigt. \nModeration: Marlene Eichinger (VfW\, KuKu) \nVortrag auch per Zoom bei Anmeldung bis Montag\, 18. November 2024\, 12:00 Uhr an pr@frauenhetz.at \nIn Kooperation mit dem VfW \nDie Veranstaltung ist offen für alle. \n
URL:https://www.strawanzerin.at/termin/integration-aus-der-perspektive-von-jungen-frauen/
LOCATION:Frauenbildungsstätte Frauenhetz\, Untere Weißgerberstraße 41\, Wien\, Wien\, 1030\, Österreich
CATEGORIES:Bildung,Deutsch,Feminismus,Gratis,Vortrag/Symposium,Wien
GEO:48.2084854;16.3946163
X-APPLE-STRUCTURED-LOCATION;VALUE=URI;X-ADDRESS=Frauenbildungsstätte Frauenhetz Untere Weißgerberstraße 41 Wien Wien 1030 Österreich;X-APPLE-RADIUS=500;X-TITLE=Untere Weißgerberstraße 41:geo:16.3946163,48.2084854
END:VEVENT
END:VCALENDAR