BEGIN:VCALENDAR
VERSION:2.0
PRODID:-//STRAWANZERIN - ECPv4.9.5//NONSGML v1.0//EN
CALSCALE:GREGORIAN
METHOD:PUBLISH
X-WR-CALNAME:STRAWANZERIN
X-ORIGINAL-URL:https://www.strawanzerin.at
X-WR-CALDESC:Veranstaltungen im STRAWANZERIN
BEGIN:VTIMEZONE
TZID:"Europe/Vienna"
BEGIN:DAYLIGHT
TZOFFSETFROM:+0100
TZOFFSETTO:+0200
TZNAME:CEST
DTSTART:20200329T010000
END:DAYLIGHT
BEGIN:STANDARD
TZOFFSETFROM:+0200
TZOFFSETTO:+0100
TZNAME:CET
DTSTART:20201025T010000
END:STANDARD
END:VTIMEZONE
BEGIN:VEVENT
DTSTART;TZID="Europe/Vienna":20201007T180000
DTEND;TZID="Europe/Vienna":20201007T200000
DTSTAMP:20260421T203111
CREATED:20200820T134547Z
LAST-MODIFIED:20200902T093814Z
UID:75140-1602093600-1602100800@www.strawanzerin.at
SUMMARY:Integration durch Sprachvermittlung
DESCRIPTION:Gespräch – Lesung – Diskussion\nIntegration durch Sprachvermittlung\nFranziska Bauer – Autorin & Übersetzerin & Walter Weber – Verleger \n
URL:https://www.strawanzerin.at/termin/integration-durch-sprachvermittlung/
LOCATION:Cafe Club International C.I.\, Payergasse 14\, Wien\, Wien\, 1160\, Österreich
CATEGORIES:Bildung,Deutsch,freie Spende,Kunst/Kultur,Literatur,Transnational,Vortrag/Symposium,Wien,Workshop
ATTACH;FMTTYPE=image/jpeg:https://www.strawanzerin.at/wp-content/uploads/2020/08/2020_10_07-AUSSER-DER-REIHE-Bauer-Weber.jpg
ORGANIZER;CN="Ursula%20Pfeiffer%20verein%20%3A%3Akunst-projekte%3A%3A%20der%20%5Bgalerie%5Dstudio38%20zvr%20123612155":MAILTO:office@galeriestudio38.at
END:VEVENT
END:VCALENDAR