BEGIN:VCALENDAR
VERSION:2.0
PRODID:-//STRAWANZERIN - ECPv4.9.5//NONSGML v1.0//EN
CALSCALE:GREGORIAN
METHOD:PUBLISH
X-WR-CALNAME:STRAWANZERIN
X-ORIGINAL-URL:https://www.strawanzerin.at
X-WR-CALDESC:Veranstaltungen im STRAWANZERIN
BEGIN:VTIMEZONE
TZID:"Europe/Vienna"
BEGIN:DAYLIGHT
TZOFFSETFROM:+0100
TZOFFSETTO:+0200
TZNAME:CEST
DTSTART:20220327T010000
END:DAYLIGHT
BEGIN:STANDARD
TZOFFSETFROM:+0200
TZOFFSETTO:+0100
TZNAME:CET
DTSTART:20221030T010000
END:STANDARD
END:VTIMEZONE
BEGIN:VEVENT
DTSTART;TZID="Europe/Vienna":20221016T110000
DTEND;TZID="Europe/Vienna":20221016T144500
DTSTAMP:20260423T180408
CREATED:20221004T123816Z
LAST-MODIFIED:20221006T095059Z
UID:86962-1665918000-1665931500@www.strawanzerin.at
SUMMARY:Internationaler Tag der Wiederbelebung am 16. Oktober
DESCRIPTION:Verein PULS achtet auf Herzschlag des Lebens \nJedes Jahr sterben tausende Menschen in Österreich an einem Herzkreislaufstillstand. Doch das muss nicht sein! Schließlich kann jede und jeder dank einfacher Methoden Leben retten. Wie leicht das ist\, zeigen kostenfreie Reanimationskurse des Vereins PULS am Sonntag\, dem 16. Oktober 2022\, dem Welttag der Wiederbelebung\, zwischen 11 und 14 Uhr zu jeder vollen Stunde im PULS-Zentrum in der Lichtentaler Gasse 4 im 9. Bezirk.  \nWICHTIG: Anmeldung erforderlich unter Telefon 01 99 77 259 oder office@puls.at  \nEinfach Leben retten  \nPULS versteht sich als unabhängige Plattform\, deren Mitglieder sich im Kampf gegen den plötzlichen Herztod engagieren. Es geht vor allem um Bewusstseinsbildung\, denn die Zeit bis zum Eintreffen professioneller Hilfe kann zwischen Leben und Tod entscheiden. Neben couragierten Helfer*innen braucht es auch ein gutes\, öffentlich zugängliches Defi-Netz sowie starke Partnerschaften\, etwa mit Einsatzorganisationen\, Universitäten und Fachgesellschaften. Für all das und mehr Mut zur Hilfeleistung setzt sich PULS ein. \nZeit:\nSonntag\, 16. Oktober 2022\, um 11\, 12\, 13 und 14  Uhr \nBild: Kostenfreie Reanimationskurse im PULS-Zentrum\, Foto/© Hechenberger \n
URL:https://www.strawanzerin.at/termin/internationaler-tag-der-wiederbelebung-am-16-oktober-2/
LOCATION:PulsZentrum\, Lichtentaler Gasse 4/1/R03 (Eingang um die Ecke – Salzergasse)\, Wien\, Wien\, 1090\, Österreich
CATEGORIES:Gesundheit,Gratis,Wien
ATTACH;FMTTYPE=image/jpeg:https://www.strawanzerin.at/wp-content/uploads/2022/10/Schulprojekt©Hechenberger_200730_IMG_8733_b.jpg
END:VEVENT
END:VCALENDAR