BEGIN:VCALENDAR
VERSION:2.0
PRODID:-//STRAWANZERIN - ECPv4.9.5//NONSGML v1.0//EN
CALSCALE:GREGORIAN
METHOD:PUBLISH
X-WR-CALNAME:STRAWANZERIN
X-ORIGINAL-URL:https://www.strawanzerin.at
X-WR-CALDESC:Veranstaltungen im STRAWANZERIN
BEGIN:VTIMEZONE
TZID:"Europe/Vienna"
BEGIN:DAYLIGHT
TZOFFSETFROM:+0100
TZOFFSETTO:+0200
TZNAME:CEST
DTSTART:20230326T010000
END:DAYLIGHT
BEGIN:STANDARD
TZOFFSETFROM:+0200
TZOFFSETTO:+0100
TZNAME:CET
DTSTART:20231029T010000
END:STANDARD
END:VTIMEZONE
BEGIN:VEVENT
DTSTART;TZID="Europe/Vienna":20230116T180000
DTEND;TZID="Europe/Vienna":20230116T180000
DTSTAMP:20260420T220142
CREATED:20230109T104204Z
LAST-MODIFIED:20230113T101517Z
UID:88316-1673892000-1673892000@www.strawanzerin.at
SUMMARY:Iran: Frau\, Leben\, Freiheit Frauenrechtsaktivistin Mina Ahadi
DESCRIPTION:Diskussionsveranstaltung \nMina Ahadi wird bei der Veranstaltung über ihre politische Positionierung sprechen. Sie wird über die aktuellen Entwicklungen der Protestbewegung im Iran informieren und ihre Einschätzung zu Entstehung\, Verlauf und Perspektive geben. Frau\, Leben\, Freiheit ist seit jeher ihre Vision. Sie prangert kompromisslos die Unterdrückung der Frauen durch den Islam (und andere Religionen) an. Die aktuellen Proteste im Iran unterstützt sie mit aller Kraft\, sie hofft\, wie viele Frauen und Männer\, auf ein Ende des Mullah Regimes. Jedoch prognostiziert sie\, dass noch harte Kämpfe bevorstehen.  \nMit Mina Ahadi (Frauenrechtsaktivistin\, Köln). Sie rief 2001\, das Komitee gegen Steinigung ins Leben\, 2007 gründete sie den Zentralrat der Ex-Muslime. Sie floh 1981 in das kurdische Gebiet des Iran und im Jahr 1990 weiter nach Österreich. Sie arbeitet eng mit der fortschrittlichen iranischen Opposition zusammen. \nModeration: Sara Soltani (Expertin für Menschenrechte/Frauenrechte\, Inklusion und Diversität; WIDE-Vorstandsmitglied) \nEine Kooperationversanstaltung zwischen WIDE\, WILPF und Frauenhetz \nPublikation: Mina Ahadi\, Ich habe abgeschworen. Warum ich für die Freiheit und gegen den Islam kämpfe. Neuauflage 2019\, Alibri Verlag \nEs wird einen Büchertisch geben.  \nDie Veranstaltung ist offen für alle. \n
URL:https://www.strawanzerin.at/termin/iran-frau-leben-freiheit-frauenrechtsaktivistin-mina-ahadi/
LOCATION:Frauenbildungsstätte Frauenhetz\, Untere Weißgerberstraße 41\, Wien\, Wien\, 1030\, Österreich
CATEGORIES:Antifaschismus,Barrierefrei,Bildung,Bürger_innenrechte,Deutsch,Feminismus,Gratis,Soziale Kämpfe,Vortrag/Symposium,Wien
ATTACH;FMTTYPE=image/png:https://www.strawanzerin.at/wp-content/uploads/2023/01/Mina-Ahadi-FB.png
GEO:48.2084854;16.3946163
X-APPLE-STRUCTURED-LOCATION;VALUE=URI;X-ADDRESS=Frauenbildungsstätte Frauenhetz Untere Weißgerberstraße 41 Wien Wien 1030 Österreich;X-APPLE-RADIUS=500;X-TITLE=Untere Weißgerberstraße 41:geo:16.3946163,48.2084854
END:VEVENT
END:VCALENDAR