BEGIN:VCALENDAR
VERSION:2.0
PRODID:-//STRAWANZERIN - ECPv4.9.5//NONSGML v1.0//EN
CALSCALE:GREGORIAN
METHOD:PUBLISH
X-WR-CALNAME:STRAWANZERIN
X-ORIGINAL-URL:https://www.strawanzerin.at
X-WR-CALDESC:Veranstaltungen im STRAWANZERIN
BEGIN:VTIMEZONE
TZID:"Europe/Vienna"
BEGIN:DAYLIGHT
TZOFFSETFROM:+0100
TZOFFSETTO:+0200
TZNAME:CEST
DTSTART:20240331T010000
END:DAYLIGHT
BEGIN:STANDARD
TZOFFSETFROM:+0200
TZOFFSETTO:+0100
TZNAME:CET
DTSTART:20241027T010000
END:STANDARD
END:VTIMEZONE
BEGIN:VEVENT
DTSTART;TZID="Europe/Vienna":20240605T190000
DTEND;TZID="Europe/Vienna":20240605T210000
DTSTAMP:20260422T173429
CREATED:20240528T122745Z
LAST-MODIFIED:20240528T122745Z
UID:99607-1717614000-1717621200@www.strawanzerin.at
SUMMARY:Is Palestine a feminist issue?  Zur Verschränkung von (Queer)-Feminismus und Antisemitismus
DESCRIPTION:Ein Vortrag und Gespräch mit Cordula Trunk \n5.6.2024\, 19:00\, Eintritt frei \nAngewandte\, Vordere Zollamtsstraße 7\, 4. Stock\, SR21 \nNicht erst seit dem Massaker am 7. Oktober spaltet die Auseinandersetzung um Antisemitismus\, Postkolonialismus und Israel die linke Bewegung. Die mangelnde Bereitschaft\, sich mit dem eigenen Antisemitismus auseinanderzusetzen\, hat auch in linken feministischen Kontexten eine lange Tradition. \nDer Vortrag ordnet den 7. Oktobers historisch ein\, beleuchtet die Rolle von Social Media\, insbesondere das Streamen der sexualisierten Gewalt\, analysiert die problematischen Allianzen zwischen Feminist:innen und Antisemit:innen und erklärt sie auf drei Ebenen: individuell\, theoretisch und bewegungspolitisch: \nDer These folgend\, dass große Teile des feministischen Mainstreams einem vulgären Postkolonialismus anhängen\, werden sowohl Rassismus als auch Antisemitismus als Unterdrückungsideologien in ihren Funktionsweisen erläutert\, voneinander abgegrenzt und auf ihre jeweiligen Leerstellen hin befragt. Im Anschluss wird anhand von theoretischen Konzepten wie „intersectionality of struggles“ (Angela Davis) und „Homonationalismus/Pinkwashing“ (Jasbir Puar) auf die Nähe von (mancher) queerfeministischer Theorie und Antisemitismus eingegangen. Abschließend werden bewegungspolitische Entwicklungen in der feministischen und antifaschistischen Szene der letzten Jahre analysiert und Ansätze für die Stärkung der emanzipatorischen Linken formuliert. \nCordula Trunk ist Philosoph:in und Kulturwissenschaftler:in aus Leipzig und arbeitet momentan an der Universität Innsbruck. Dort promoviert sie auch zu Konflikten um das feministische Subjekt. Sie ist seit vielen Jahren in der feministischen und antifaschistischen Bewegung engagiert. Theorie und Praxis gehören für sie dabei untrennbar zusammen. \nZuletzt hat sie mit ihrem Theoriekollektiv MF3000 das Buch „Ändern wir die Welt\, sie braucht es!“ im Querverlag publiziert. \nZu dieser Veranstaltung lädt Gruppe Pourquoi – Künstler:innen gegen Antisemitismus – in einer Kooperation mit dem Zentrum Didaktik für Kunst und interdisziplinären Unterricht. \nGefördert durch die HochschülerInnenschaft an der Universität Wien. \n
URL:https://www.strawanzerin.at/termin/is-palestine-a-feminist-issue-zur-verschraenkung-von-queer-feminismus-und-antisemitismus/
LOCATION:Universität für angewandte Kunst Wien\, Atrium\, Vordere Zollamtsstraße 7\, 1030 Wien\, Vordere Zollamtsstraße 7\, Wien\, WIen\, 1030\, Österreich
CATEGORIES:Vortrag/Symposium
ATTACH;FMTTYPE=image/jpeg:https://www.strawanzerin.at/wp-content/uploads/2024/05/Trunk-Vortrag-Webbanner-plus-Infos.jpg
END:VEVENT
END:VCALENDAR